{"text_format":"1","workbook":"xlsx","n_sheets":8,"sheets":["Stran 1","Stran 2","Stran 3","Stran 4","Stran 5","DB","DB_slo","Db_original"],"not_rendered":{"charts":0,"images":15,"macros":1,"external_links":0,"defined_names":5,"comments":4,"pivot_tables":0},"unopened":[],"bounds":{"document_bytes":16777216,"sheet_cells":100000,"rows_first":2000,"rows_last":500,"rows_between":2000,"halvings":0,"cell_chars":16384,"cell_head_chars":4096},"cells_cut":0,"cells_raw":0,"read":"whole","date_system":"1900"}

{"sheet":"Stran 1","index":0,"n_rows":97,"n_cols":17,"rows_kept":97,"cut":false,"hidden":false,"merged":[[5,0,5,1],[0,0,0,3],[2,0,4,0],[2,1,2,5],[3,1,3,5],[4,1,4,5],[6,0,6,1],[6,2,6,5],[7,0,7,1],[7,2,7,5],[8,0,8,1],[8,2,8,5],[9,2,9,5],[10,2,10,5],[11,1,11,2],[11,4,11,5],[12,0,12,3],[12,4,12,5],[13,3,13,4],[14,0,14,5],[22,0,22,5],[32,1,32,4],[34,0,34,5]]}
["OCENA ŠKODE ZARADI JELENOV"]
["NA POSAMEZNIH DREVESIH V SMREKOVIH SESTOJIH"]
["Lastnik gozda","Ime in priimek:"]
[null,"Naslov:"]
[null,"Poštna številka in naziv pošte:"]
["Der Betrieb ist steuerlich"]
["Katastrska občina:"]
["Parcelna številka:"]
["Nastanek škode:"]
[null,"Od:"]
[null,"Do:"]
["Starost sestoja:",null,null,"Boniteta:"]
["Stoški sečnje in spravila:"]
["Sklep sestoja:","Normalen:",1,"Tesen:   ",null,"ne"]
["OCENA ŠKODE NA NOSILCIH SESTOJA"]
["Stopnja poškodbe","Število dreves",null,"EUR/Drevo",null,"Skupaj EUR"]
[1,null,"x",{"$f":"IF(B17=0,\" \",IF($H$47<3,\" \",J49))","v":" "},"=",{"$f":"IF(B17=0,\" \",B17*D17)","v":" "}]
[2,null,"x",{"$f":"IF(B18=0,\" \",IF($H$47<3,\" \",J55))","v":" "},"=",{"$f":"IF(B18=0,\" \",B18*D18)","v":" "}]
[3,null,"x",{"$f":"IF(B19=0,\" \",IF($H$47<3,\" \",J50))","v":" "},"=",{"$f":"IF(B19=0,\" \",B19*D19)","v":" "}]
[4,null,"x",{"$f":"IF(B20=0,\" \",IF($H$47<3,\" \",J51))","v":" "},"=",{"$f":"IF(B20=0,\" \",B20*D20)","v":" "}]
["Skupaj:",{"$f":"IF(SUM(B17:B20)=0,\" 0\",SUM(B17:B20))","v":" 0"},null,null,null,{"$f":"IF(B21=\" \",\" \",SUM(F17:F20))","v":0}]
["Skupaj škoda na nosilcih sestoja:",null,null,null,null,{"$f":"IF(B21=\" \",\"0\",SUM(F17:F20))","v":0}]
["OCENA ŠKODE NA DREVESIH, KI BODO IZPADLA V VMESNIH REDČENJIH"]
["Stopnja poškodbe","Število dreves",null,"EUR/Drevo",null,"Skupaj EUR"]
[1,null,null,{"$f":"IF(B25=0,\" \",IF($H$47<3,\" \",J52))","v":" "},"=",{"$f":"IF(B25=0,\" \",B25*D25)","v":" "}]
[2,null,"x",{"$f":"IF(B26=0,\" \",IF($H$47<3,\" \",J56))","v":" "},"=",{"$f":"IF(B26=0,\" \",B26*D26)","v":" "}]
[3,null,"x",{"$f":"IF(B27=0,\" \",IF($H$47<3,\" \",J53))","v":" "},"=",{"$f":"IF(B27=0,\" \",B27*D27)","v":" "}]
[4,null,"x",{"$f":"IF(B28=0,\" \",IF($H$47<3,\" \",J54))","v":" "},"=",{"$f":"IF(B28=0,\" \",B28*D28)","v":" "}]
["Skupaj:",{"$f":"IF(SUM(B25:B28)=0,\"0\",SUM(B25:B28))","v":"0"},null,null,null,{"$f":"IF(SUM(B26:B28)=0,\"0\",SUM(F26:F28))","v":"0"}]
["Odbitek zaradi tesnega sklepa: 40% od vsote števila dreves od 1 do 4",null,null,null,null,{"$f":"IF(B29=\" \",\" \",(IF(C14=1,0,F29*0.4*(-1))))","v":0}]
["Skupaj škoda na drevesih, ki bodo izpadla v vmesnih redčenjih:",null,null,null,null,{"$f":"IF(SUM(B25:B28)=0,\"0\",F29+F30)","v":"0"}]
["Odškodnina v EUR",null,null,null,null,{"$f":"IF(SUM(B18:B20,B26:B28)=0,\"0\",SUM(F31,F22))","v":"0"}]
[null,"Povprečna škoda v EUR na drevo",null,null,null,{"$f":"IF(SUM(B18:B20,B26:B28)=0,\" \",F32/SUM(B18:B20,B26:B28))","v":" "}]
[]
["Skupaj vse tabele"]
[null,"Odškodnina EUR",null,null,null,{"$f":"D39","v":0}]
[null,"Nosilci sestoja",null,{"$f":"'Stran 1'!F22+'Stran 2'!F22+'Stran 3'!F22+'Stran 4'!F22+'Stran 5'!F22","v":0},null,{"$f":"'Stran 1'!B21+'Stran 2'!B21+'Stran 3'!B21+'Stran 4'!B21+'Stran 5'!B21","v":0}]
[null,"Redčenja",null,{"$f":"'Stran 1'!F31+'Stran 2'!F31+'Stran 3'!F31+'Stran 4'!F31+'Stran 5'!F31","v":0},null,{"$f":"'Stran 1'!B29+'Stran 2'!B29+'Stran 3'!B29+'Stran 4'!B29+'Stran 5'!B29","v":0}]
[null,"Skupaj",null,{"$f":"SUM(D37:D38)","v":0},null,{"$f":"F38+F37","v":0}]
[null,"Povprečna škoda v EUR na drevo",null,{"$f":"D39/F39","v":{"$error":"#DIV/0!"}}]
[]
[]
["Sklep Normalen","Da",null,null,null,null,null,"Est","BON","EK","BESTAND","ALT",null,"SG 1+2","SG 3","SG 4","SG 2"]
[null,"Ne","Ne",null,null,null,null,"pauschaliert","Dobra","Nizki","AUS",{"$f":"IF(M44=\"-\",\"-\",IF(M44*1=L58,M44*1,L58-5))","v":25},"25",{"$f":"IF($H$47<3,\" \",DGET(DB!$A$1:$I$397,DB!F$1,$H43:$L44))","v":1.34},{"$f":"IF($H$47<3,\" \",DGET(DB!$A$1:$H$397,DB!G$1,$H43:$L44))","v":2.44},{"$f":"IF($H$47<3,\" \",DGET(DB!$A$1:$H$397,DB!H$1,$H43:$L44))","v":2.0299999999999998},{"$f":"IF($H$47<3,\" \",DGET(DB!$A$1:$I$397,DB!I$1,$H43:$L44))","v":2.35}]
["Steuerlich","ALT","BON","EK",null,null,null,"Est","BON","EK","BESTAND","ALT",null,"SG 1+2","SG 3","SG 4"]
["pauschaliert","-","-","-",null,null,null,{"$f":"H44","v":"pauschaliert"},{"$f":"I44","v":"Dobra"},{"$f":"J44","v":"Nizki"},"END",{"$f":"L44","v":25},null,{"$f":"IF($H$47<3,\" \",DGET(DB!$A$1:$H$397,DB!F$1,$H45:$L46))","v":4.0599999999999996},{"$f":"IF($H$47<3,\" \",DGET(DB!$A$1:$H$397,DB!G$1,$H45:$L46))","v":9.41},{"$f":"IF($H$47<3,\" \",DGET(DB!$A$1:$H$397,DB!H$1,$H45:$L46))","v":17.78},{"$f":"IF($H$47<3,\" \",DGET(DB!$A$1:$I$397,DB!I$1,$H45:$L46))","v":7.13}]
["buchführend",15,"Dobra","Nizki",null,null,null,{"$f":"SUM(I47:L47)","v":3},{"$f":"IF(I44=\"-\",0,1)","v":1},{"$f":"IF(J44=\"-\",0,1)","v":1},null,{"$f":"IF(L44=\"-\",0,1)","v":1}]
[null,16,"Srednja","Srednji",null,null,null,"Werte für Berechnung",null,null,null,null,null,"Interpolierte Werte"]
[null,17,"Nizka","Visoki",null,null,null,"END","SG 1+2",{"$f":"IF($L$44=$M$44*1,N46,N49)","v":4.0599999999999996},null,null,null,{"$f":"N46+(N60-N46)/5*($M$44*1-$L$44)","v":4.0599999999999996},{"$f":"O46+(O60-O46)/5*($M$44*1-$L$44)","v":9.41},{"$f":"P46+(P60-P46)/5*($M$44*1-$L$44)","v":17.78},{"$f":"Q46+(Q60-Q46)/5*($M$44*1-$L$44)","v":7.13}]
[null,18,null,null,null,null,null,null,"SG 3",{"$f":"IF($L$44=$M$44*1,O46,O49)","v":9.41}]
[null,19,null,null,null,null,null,null,"SG 4",{"$f":"IF($L$44=$M$44*1,P46,P49)","v":17.78}]
[null,20,null,null,null,null,null,"AUS","SG 1+2",{"$f":"IF($L$44=$M$44*1,N44,N52)","v":1.34},null,null,null,{"$f":"N44+(N58-N44)/5*($M$44*1-$L$44)","v":1.34},{"$f":"O44+(O58-O44)/5*($M$44*1-$L$44)","v":2.44},{"$f":"P44+(P58-P44)/5*($M$44*1-$L$44)","v":2.0299999999999998},{"$f":"Q44+(Q58-Q44)/5*($M$44*1-$L$44)","v":2.35}]
[null,21,null,null,null,null,null,null,"SG 3",{"$f":"IF($L$44=$M$44*1,O44,O52)","v":2.44}]
[null,22,null,null,null,null,null,null,"SG 4",{"$f":"IF($L$44=$M$44*1,P44,P52)","v":2.0299999999999998}]
[null,23,null,null,null,null,null,"END","SG 2",{"$f":"IF($L$44=$M$44*1,Q46,Q49)","v":7.13}]
[null,24,null,null,null,null,null,"AUS","SG 2",{"$f":"IF($L$44=$M$44*1,Q44,Q52)","v":2.35}]
[null,25,null,null,null,null,null,"Est","BON","EK","BESTAND","ALT",null,"SG 1+2","SG 3","SG 4","SG 2"]
[null,26,null,null,null,null,null,"pauschaliert",{"$f":"I44","v":"Dobra"},{"$f":"J44","v":"Nizki"},"AUS",{"$f":"ROUND(M44*1,-1)","v":30},null,{"$f":"IF($H$47<3,\" \",DGET(DB!$A$1:$H$397,DB!F$1,$H57:$L58))","v":1.59},{"$f":"IF($H$47<3,\" \",DGET(DB!$A$1:$H$397,DB!G$1,$H57:$L58))","v":2.81},{"$f":"IF($H$47<3,\" \",DGET(DB!$A$1:$H$397,DB!H$1,$H57:$L58))","v":2.5299999999999998},{"$f":"IF($H$47<3,\" \",DGET(DB!$A$1:$I$397,DB!I$1,$H57:$L58))","v":3.71}]
[null,27,null,null,null,null,null,"Est","BON","EK","BESTAND","ALT",null,"SG 1+2","SG 3","SG 4"]
[null,28,null,null,null,null,null,{"$f":"H58","v":"pauschaliert"},{"$f":"I58","v":"Dobra"},{"$f":"J58","v":"Nizki"},"END",{"$f":"L58","v":30},null,{"$f":"IF($H$47<3,\" \",DGET(DB!$A$1:$H$397,DB!F$1,$H59:$L60))","v":4.41},{"$f":"IF($H$47<3,\" \",DGET(DB!$A$1:$H$397,DB!G$1,$H59:$L60))","v":10.32},{"$f":"IF($H$47<3,\" \",DGET(DB!$A$1:$H$397,DB!H$1,$H59:$L60))","v":19.420000000000002},{"$f":"IF($H$47<3,\" \",DGET(DB!$A$1:$I$397,DB!I$1,$H59:$L60))","v":7.91}]
[null,29,null,null,null,null,null,{"$f":"H47","v":3},{"$f":"I47","v":1},{"$f":"J47","v":1},null,{"$f":"L47","v":1}]
[null,30]
[null,31]
[null,32]
[null,33]
[null,34]
[null,35]
[null,36]
[null,37]
[null,38]
[null,39]
[null,40]
[null,41]
[null,42]
[null,43]
[null,44]
[null,45]
[null,46]
[null,47]
[null,48]
[null,49]
[null,50]
[null,51]
[null,52]
[null,53]
[null,54]
[null,55]
[null,56]
[null,57]
[null,58]
[null,59]
[null,60]
[null,61]
[null,62]
[null,63]
[null,64]
[null,65]

{"sheet":"Stran 2","index":1,"n_rows":97,"n_cols":17,"rows_kept":97,"cut":false,"hidden":false,"merged":[[5,0,5,1],[0,0,0,3],[2,0,4,0],[2,1,2,5],[3,1,3,5],[4,1,4,5],[6,0,6,1],[6,2,6,5],[7,0,7,1],[7,2,7,5],[8,0,8,1],[8,2,8,5],[9,2,9,5],[10,2,10,5],[11,1,11,2],[11,4,11,5],[12,0,12,3],[12,4,12,5],[13,3,13,4],[14,0,14,5],[22,0,22,5],[32,1,32,4],[34,0,34,5]]}
["OCENA ŠKODE ZARADI JELENOV"]
["NA POSAMEZNIH DREVESIH V SMREKOVIH SESTOJIH"]
["Lastnik gozda","Ime in priimek:"]
[null,"Naslov:"]
[null,"Poštna številka in naziv pošte:"]
["Der Betrieb ist steuerlich"]
["Katastrska občina:"]
["Parcelna številka:"]
["Nastanek škode:"]
[null,"Od:"]
[null,"Do:"]
["Starost sestoja:",null,null,"Boniteta:"]
["Stoški sečnje in spravila:"]
["Sklep sestoja:","Normalen:",1,"Tesen:   ",null,"ne"]
["OCENA ŠKODE NA NOSILCIH SESTOJA"]
["Stopnja poškodbe","Število dreves",null,"EUR/Drevo",null,"Skupaj EUR"]
[1,null,"x",{"$f":"IF(B17=0,\" \",IF($H$47<3,\" \",J49))","v":" "},"=",{"$f":"IF(B17=0,\" \",B17*D17)","v":" "}]
[2,null,"x",{"$f":"IF(B18=0,\" \",IF($H$47<3,\" \",J55))","v":" "},"=",{"$f":"IF(B18=0,\" \",B18*D18)","v":" "}]
[3,null,"x",{"$f":"IF(B19=0,\" \",IF($H$47<3,\" \",J50))","v":" "},"=",{"$f":"IF(B19=0,\" \",B19*D19)","v":" "}]
[4,null,"x",{"$f":"IF(B20=0,\" \",IF($H$47<3,\" \",J51))","v":" "},"=",{"$f":"IF(B20=0,\" \",B20*D20)","v":" "}]
["Skupaj:",{"$f":"IF(SUM(B17:B20)=0,\" 0\",SUM(B17:B20))","v":" 0"},null,null,null,{"$f":"IF(B21=\" \",\" \",SUM(F17:F20))","v":0}]
["Skupaj škoda na nosilcih sestoja:",null,null,null,null,{"$f":"IF(B21=\" \",\"0\",SUM(F17:F20))","v":0}]
["OCENA ŠKODE NA DREVESIH, KI BODO IZPADLA V VMESNIH REDČENJIH"]
["Stopnja poškodbe","Število dreves",null,"EUR/Drevo",null,"Skupaj EUR"]
[1,null,null,{"$f":"IF(B25=0,\" \",IF($H$47<3,\" \",J52))","v":" "},"=",{"$f":"IF(B25=0,\" \",B25*D25)","v":" "}]
[2,null,"x",{"$f":"IF(B26=0,\" \",IF($H$47<3,\" \",J56))","v":" "},"=",{"$f":"IF(B26=0,\" \",B26*D26)","v":" "}]
[3,null,"x",{"$f":"IF(B27=0,\" \",IF($H$47<3,\" \",J53))","v":" "},"=",{"$f":"IF(B27=0,\" \",B27*D27)","v":" "}]
[4,null,"x",{"$f":"IF(B28=0,\" \",IF($H$47<3,\" \",J54))","v":" "},"=",{"$f":"IF(B28=0,\" \",B28*D28)","v":" "}]
["Skupaj:",{"$f":"IF(SUM(B25:B28)=0,\"0\",SUM(B25:B28))","v":"0"},null,null,null,{"$f":"IF(SUM(B26:B28)=0,\"0\",SUM(F26:F28))","v":"0"}]
["Odbitek zaradi tesnega sklepa: 40% od vsote števila dreves od 1 do 4",null,null,null,null,{"$f":"IF(B29=\" \",\" \",(IF(C14=1,0,F29*0.4*(-1))))","v":0}]
["Skupaj škoda na drevesih, ki bodo izpadla v vmesnih redčenjih:",null,null,null,null,{"$f":"IF(SUM(B25:B28)=0,\"0\",F29+F30)","v":"0"}]
["Odškodnina v EUR",null,null,null,null,{"$f":"IF(SUM(B18:B20,B26:B28)=0,\"0\",SUM(F31,F22))","v":"0"}]
[null,"Povprečna škoda v EUR na drevo",null,null,null,{"$f":"IF(SUM(B18:B20,B26:B28)=0,\" \",F32/SUM(B18:B20,B26:B28))","v":" "}]
[]
["Skupaj vse tabele"]
[null,"Odškodnina EUR",null,null,null,{"$f":"D39","v":0}]
[null,"Nosilci sestoja",null,{"$f":"'Stran 1'!F22+'Stran 2'!F22+'Stran 3'!F22+'Stran 4'!F22+'Stran 5'!F22","v":0},null,{"$f":"'Stran 1'!B21+'Stran 2'!B21+'Stran 3'!B21+'Stran 4'!B21+'Stran 5'!B21","v":0}]
[null,"Redčenja",null,{"$f":"'Stran 1'!F31+'Stran 2'!F31+'Stran 3'!F31+'Stran 4'!F31+'Stran 5'!F31","v":0},null,{"$f":"'Stran 1'!B29+'Stran 2'!B29+'Stran 3'!B29+'Stran 4'!B29+'Stran 5'!B29","v":0}]
[null,"Skupaj",null,{"$f":"SUM(D37:D38)","v":0},null,{"$f":"F38+F37","v":0}]
[null,"Povprečna škoda v EUR na drevo",null,{"$f":"D39/F39","v":{"$error":"#DIV/0!"}}]
[]
[]
["Sklep Normalen","Da",null,null,null,null,null,"Est","BON","EK","BESTAND","ALT",null,"SG 1+2","SG 3","SG 4","SG 2"]
[null,"Ne","Ne",null,null,null,null,"pauschaliert","Dobra","Srednji","AUS",{"$f":"IF(M44=\"-\",\"-\",IF(M44*1=L58,M44*1,L58-5))","v":25},"25",{"$f":"IF($H$47<3,\" \",DGET(DB!$A$1:$I$397,DB!F$1,$H43:$L44))","v":1.34},{"$f":"IF($H$47<3,\" \",DGET(DB!$A$1:$H$397,DB!G$1,$H43:$L44))","v":2.44},{"$f":"IF($H$47<3,\" \",DGET(DB!$A$1:$H$397,DB!H$1,$H43:$L44))","v":1.31},{"$f":"IF($H$47<3,\" \",DGET(DB!$A$1:$I$397,DB!I$1,$H43:$L44))","v":2.23}]
["Steuerlich","ALT","BON","EK",null,null,null,"Est","BON","EK","BESTAND","ALT",null,"SG 1+2","SG 3","SG 4"]
["pauschaliert","-","-","-",null,null,null,{"$f":"H44","v":"pauschaliert"},{"$f":"I44","v":"Dobra"},{"$f":"J44","v":"Srednji"},"END",{"$f":"L44","v":25},null,{"$f":"IF($H$47<3,\" \",DGET(DB!$A$1:$H$397,DB!F$1,$H45:$L46))","v":3.12},{"$f":"IF($H$47<3,\" \",DGET(DB!$A$1:$H$397,DB!G$1,$H45:$L46))","v":8},{"$f":"IF($H$47<3,\" \",DGET(DB!$A$1:$H$397,DB!H$1,$H45:$L46))","v":6.45},{"$f":"IF($H$47<3,\" \",DGET(DB!$A$1:$I$397,DB!I$1,$H45:$L46))","v":5.75}]
["buchführend",15,"Dobra","Nizki",null,null,null,{"$f":"SUM(I47:L47)","v":3},{"$f":"IF(I44=\"-\",0,1)","v":1},{"$f":"IF(J44=\"-\",0,1)","v":1},null,{"$f":"IF(L44=\"-\",0,1)","v":1}]
[null,16,"Srednja","Srednji",null,null,null,"Werte für Berechnung",null,null,null,null,null,"Interpolierte Werte"]
[null,17,"Nizka","Visoki",null,null,null,"END","SG 1+2",{"$f":"IF($L$44=$M$44*1,N46,N49)","v":3.12},null,null,null,{"$f":"N46+(N60-N46)/5*($M$44*1-$L$44)","v":3.12},{"$f":"O46+(O60-O46)/5*($M$44*1-$L$44)","v":8},{"$f":"P46+(P60-P46)/5*($M$44*1-$L$44)","v":6.45},{"$f":"Q46+(Q60-Q46)/5*($M$44*1-$L$44)","v":5.75}]
[null,18,null,null,null,null,null,null,"SG 3",{"$f":"IF($L$44=$M$44*1,O46,O49)","v":8}]
[null,19,null,null,null,null,null,null,"SG 4",{"$f":"IF($L$44=$M$44*1,P46,P49)","v":6.45}]
[null,20,null,null,null,null,null,"AUS","SG 1+2",{"$f":"IF($L$44=$M$44*1,N44,N52)","v":1.34},null,null,null,{"$f":"N44+(N58-N44)/5*($M$44*1-$L$44)","v":1.34},{"$f":"O44+(O58-O44)/5*($M$44*1-$L$44)","v":2.44},{"$f":"P44+(P58-P44)/5*($M$44*1-$L$44)","v":1.31},{"$f":"Q44+(Q58-Q44)/5*($M$44*1-$L$44)","v":2.23}]
[null,21,null,null,null,null,null,null,"SG 3",{"$f":"IF($L$44=$M$44*1,O44,O52)","v":2.44}]
[null,22,null,null,null,null,null,null,"SG 4",{"$f":"IF($L$44=$M$44*1,P44,P52)","v":1.31}]
[null,23,null,null,null,null,null,"END","SG 2",{"$f":"IF($L$44=$M$44*1,Q46,Q49)","v":5.75}]
[null,24,null,null,null,null,null,"AUS","SG 2",{"$f":"IF($L$44=$M$44*1,Q44,Q52)","v":2.23}]
[null,25,null,null,null,null,null,"Est","BON","EK","BESTAND","ALT",null,"SG 1+2","SG 3","SG 4","SG 2"]
[null,26,null,null,null,null,null,"pauschaliert",{"$f":"I44","v":"Dobra"},{"$f":"J44","v":"Srednji"},"AUS",{"$f":"ROUND(M44*1,-1)","v":30},null,{"$f":"IF($H$47<3,\" \",DGET(DB!$A$1:$H$397,DB!F$1,$H57:$L58))","v":1.59},{"$f":"IF($H$47<3,\" \",DGET(DB!$A$1:$H$397,DB!G$1,$H57:$L58))","v":2.81},{"$f":"IF($H$47<3,\" \",DGET(DB!$A$1:$H$397,DB!H$1,$H57:$L58))","v":1.64},{"$f":"IF($H$47<3,\" \",DGET(DB!$A$1:$I$397,DB!I$1,$H57:$L58))","v":3.33}]
[null,27,null,null,null,null,null,"Est","BON","EK","BESTAND","ALT",null,"SG 1+2","SG 3","SG 4"]
[null,28,null,null,null,null,null,{"$f":"H58","v":"pauschaliert"},{"$f":"I58","v":"Dobra"},{"$f":"J58","v":"Srednji"},"END",{"$f":"L58","v":30},null,{"$f":"IF($H$47<3,\" \",DGET(DB!$A$1:$H$397,DB!F$1,$H59:$L60))","v":3.29},{"$f":"IF($H$47<3,\" \",DGET(DB!$A$1:$H$397,DB!G$1,$H59:$L60))","v":8.41},{"$f":"IF($H$47<3,\" \",DGET(DB!$A$1:$H$397,DB!H$1,$H59:$L60))","v":6.8},{"$f":"IF($H$47<3,\" \",DGET(DB!$A$1:$I$397,DB!I$1,$H59:$L60))","v":6.05}]
[null,29,null,null,null,null,null,{"$f":"H47","v":3},{"$f":"I47","v":1},{"$f":"J47","v":1},null,{"$f":"L47","v":1}]
[null,30]
[null,31]
[null,32]
[null,33]
[null,34]
[null,35]
[null,36]
[null,37]
[null,38]
[null,39]
[null,40]
[null,41]
[null,42]
[null,43]
[null,44]
[null,45]
[null,46]
[null,47]
[null,48]
[null,49]
[null,50]
[null,51]
[null,52]
[null,53]
[null,54]
[null,55]
[null,56]
[null,57]
[null,58]
[null,59]
[null,60]
[null,61]
[null,62]
[null,63]
[null,64]
[null,65]

{"sheet":"Stran 3","index":2,"n_rows":97,"n_cols":17,"rows_kept":97,"cut":false,"hidden":false,"merged":[[5,0,5,1],[0,0,0,3],[2,0,4,0],[2,1,2,5],[3,1,3,5],[4,1,4,5],[6,0,6,1],[6,2,6,5],[7,0,7,1],[7,2,7,5],[8,0,8,1],[8,2,8,5],[9,2,9,5],[10,2,10,5],[11,1,11,2],[11,4,11,5],[12,0,12,3],[12,4,12,5],[13,3,13,4],[14,0,14,5],[22,0,22,5],[32,1,32,4],[34,0,34,5]]}
["OCENA ŠKODE ZARADI JELENOV"]
["NA POSAMEZNIH DREVESIH V SMREKOVIH SESTOJIH"]
["Lastnik gozda","Ime in priimek:"]
[null,"Naslov:"]
[null,"Poštna številka in naziv pošte:"]
["Der Betrieb ist steuerlich"]
["Katastrska občina:"]
["Parcelna številka:"]
["Nastanek škode:"]
[null,"Od:"]
[null,"Do:"]
["Starost sestoja:",null,null,"Boniteta:"]
["Stoški sečnje in spravila:"]
["Sklep sestoja:","Normalen:",1,"Tesen:   ",null,"ne"]
["OCENA ŠKODE NA NOSILCIH SESTOJA"]
["Stopnja poškodbe","Število dreves",null,"EUR/Drevo",null,"Skupaj EUR"]
[1,null,"x",{"$f":"IF(B17=0,\" \",IF($H$47<3,\" \",J49))","v":" "},"=",{"$f":"IF(B17=0,\" \",B17*D17)","v":" "}]
[2,null,"x",{"$f":"IF(B18=0,\" \",IF($H$47<3,\" \",J55))","v":" "},"=",{"$f":"IF(B18=0,\" \",B18*D18)","v":" "}]
[3,null,"x",{"$f":"IF(B19=0,\" \",IF($H$47<3,\" \",J50))","v":" "},"=",{"$f":"IF(B19=0,\" \",B19*D19)","v":" "}]
[4,null,"x",{"$f":"IF(B20=0,\" \",IF($H$47<3,\" \",J51))","v":" "},"=",{"$f":"IF(B20=0,\" \",B20*D20)","v":" "}]
["Skupaj:",{"$f":"IF(SUM(B17:B20)=0,\" 0\",SUM(B17:B20))","v":" 0"},null,null,null,{"$f":"IF(B21=\" \",\" \",SUM(F17:F20))","v":0}]
["Skupaj škoda na nosilcih sestoja:",null,null,null,null,{"$f":"IF(B21=\" \",\"0\",SUM(F17:F20))","v":0}]
["OCENA ŠKODE NA DREVESIH, KI BODO IZPADLA V VMESNIH REDČENJIH"]
["Stopnja poškodbe","Število dreves",null,"EUR/Drevo",null,"Skupaj EUR"]
[1,null,null,{"$f":"IF(B25=0,\" \",IF($H$47<3,\" \",J52))","v":" "},"=",{"$f":"IF(B25=0,\" \",B25*D25)","v":" "}]
[2,null,"x",{"$f":"IF(B26=0,\" \",IF($H$47<3,\" \",J56))","v":" "},"=",{"$f":"IF(B26=0,\" \",B26*D26)","v":" "}]
[3,null,"x",{"$f":"IF(B27=0,\" \",IF($H$47<3,\" \",J53))","v":" "},"=",{"$f":"IF(B27=0,\" \",B27*D27)","v":" "}]
[4,null,"x",{"$f":"IF(B28=0,\" \",IF($H$47<3,\" \",J54))","v":" "},"=",{"$f":"IF(B28=0,\" \",B28*D28)","v":" "}]
["Skupaj:",{"$f":"IF(SUM(B25:B28)=0,\"0\",SUM(B25:B28))","v":"0"},null,null,null,{"$f":"IF(SUM(B26:B28)=0,\"0\",SUM(F26:F28))","v":"0"}]
["Odbitek zaradi tesnega sklepa: 40% od vsote števila dreves od 1 do 4",null,null,null,null,{"$f":"IF(B29=\" \",\" \",(IF(C14=1,0,F29*0.4*(-1))))","v":0}]
["Skupaj škoda na drevesih, ki bodo izpadla v vmesnih redčenjih:",null,null,null,null,{"$f":"IF(SUM(B25:B28)=0,\"0\",F29+F30)","v":"0"}]
["Odškodnina v EUR",null,null,null,null,{"$f":"IF(SUM(B18:B20,B26:B28)=0,\"0\",SUM(F31,F22))","v":"0"}]
[null,"Povprečna škoda v EUR na drevo",null,null,null,{"$f":"IF(SUM(B18:B20,B26:B28)=0,\" \",F32/SUM(B18:B20,B26:B28))","v":" "}]
[]
["Skupaj vse tabele"]
[null,"Odškodnina EUR",null,null,null,{"$f":"D39","v":0}]
[null,"Nosilci sestoja",null,{"$f":"'Stran 1'!F22+'Stran 2'!F22+'Stran 3'!F22+'Stran 4'!F22+'Stran 5'!F22","v":0},null,{"$f":"'Stran 1'!B21+'Stran 2'!B21+'Stran 3'!B21+'Stran 4'!B21+'Stran 5'!B21","v":0}]
[null,"Redčenja",null,{"$f":"'Stran 1'!F31+'Stran 2'!F31+'Stran 3'!F31+'Stran 4'!F31+'Stran 5'!F31","v":0},null,{"$f":"'Stran 1'!B29+'Stran 2'!B29+'Stran 3'!B29+'Stran 4'!B29+'Stran 5'!B29","v":0}]
[null,"Skupaj",null,{"$f":"SUM(D37:D38)","v":0},null,{"$f":"F38+F37","v":0}]
[null,"Povprečna škoda v EUR na drevo",null,{"$f":"D39/F39","v":{"$error":"#DIV/0!"}}]
[]
[]
["Sklep Normalen","Da",null,null,null,null,null,"Est","BON","EK","BESTAND","ALT",null,"SG 1+2","SG 3","SG 4","SG 2"]
[null,"Ne","Ne",null,null,null,null,"pauschaliert","Dobra","Srednji","AUS",{"$f":"IF(M44=\"-\",\"-\",IF(M44*1=L58,M44*1,L58-5))","v":25},"25",{"$f":"IF($H$47<3,\" \",DGET(DB!$A$1:$I$397,DB!F$1,$H43:$L44))","v":1.34},{"$f":"IF($H$47<3,\" \",DGET(DB!$A$1:$H$397,DB!G$1,$H43:$L44))","v":2.44},{"$f":"IF($H$47<3,\" \",DGET(DB!$A$1:$H$397,DB!H$1,$H43:$L44))","v":1.31},{"$f":"IF($H$47<3,\" \",DGET(DB!$A$1:$I$397,DB!I$1,$H43:$L44))","v":2.23}]
["Steuerlich","ALT","BON","EK",null,null,null,"Est","BON","EK","BESTAND","ALT",null,"SG 1+2","SG 3","SG 4"]
["pauschaliert","-","-","-",null,null,null,{"$f":"H44","v":"pauschaliert"},{"$f":"I44","v":"Dobra"},{"$f":"J44","v":"Srednji"},"END",{"$f":"L44","v":25},null,{"$f":"IF($H$47<3,\" \",DGET(DB!$A$1:$H$397,DB!F$1,$H45:$L46))","v":3.12},{"$f":"IF($H$47<3,\" \",DGET(DB!$A$1:$H$397,DB!G$1,$H45:$L46))","v":8},{"$f":"IF($H$47<3,\" \",DGET(DB!$A$1:$H$397,DB!H$1,$H45:$L46))","v":6.45},{"$f":"IF($H$47<3,\" \",DGET(DB!$A$1:$I$397,DB!I$1,$H45:$L46))","v":5.75}]
["buchführend",15,"Dobra","Nizki",null,null,null,{"$f":"SUM(I47:L47)","v":3},{"$f":"IF(I44=\"-\",0,1)","v":1},{"$f":"IF(J44=\"-\",0,1)","v":1},null,{"$f":"IF(L44=\"-\",0,1)","v":1}]
[null,16,"Srednja","Srednji",null,null,null,"Werte für Berechnung",null,null,null,null,null,"Interpolierte Werte"]
[null,17,"Nizka","Visoki",null,null,null,"END","SG 1+2",{"$f":"IF($L$44=$M$44*1,N46,N49)","v":3.12},null,null,null,{"$f":"N46+(N60-N46)/5*($M$44*1-$L$44)","v":3.12},{"$f":"O46+(O60-O46)/5*($M$44*1-$L$44)","v":8},{"$f":"P46+(P60-P46)/5*($M$44*1-$L$44)","v":6.45},{"$f":"Q46+(Q60-Q46)/5*($M$44*1-$L$44)","v":5.75}]
[null,18,null,null,null,null,null,null,"SG 3",{"$f":"IF($L$44=$M$44*1,O46,O49)","v":8}]
[null,19,null,null,null,null,null,null,"SG 4",{"$f":"IF($L$44=$M$44*1,P46,P49)","v":6.45}]
[null,20,null,null,null,null,null,"AUS","SG 1+2",{"$f":"IF($L$44=$M$44*1,N44,N52)","v":1.34},null,null,null,{"$f":"N44+(N58-N44)/5*($M$44*1-$L$44)","v":1.34},{"$f":"O44+(O58-O44)/5*($M$44*1-$L$44)","v":2.44},{"$f":"P44+(P58-P44)/5*($M$44*1-$L$44)","v":1.31},{"$f":"Q44+(Q58-Q44)/5*($M$44*1-$L$44)","v":2.23}]
[null,21,null,null,null,null,null,null,"SG 3",{"$f":"IF($L$44=$M$44*1,O44,O52)","v":2.44}]
[null,22,null,null,null,null,null,null,"SG 4",{"$f":"IF($L$44=$M$44*1,P44,P52)","v":1.31}]
[null,23,null,null,null,null,null,"END","SG 2",{"$f":"IF($L$44=$M$44*1,Q46,Q49)","v":5.75}]
[null,24,null,null,null,null,null,"AUS","SG 2",{"$f":"IF($L$44=$M$44*1,Q44,Q52)","v":2.23}]
[null,25,null,null,null,null,null,"Est","BON","EK","BESTAND","ALT",null,"SG 1+2","SG 3","SG 4","SG 2"]
[null,26,null,null,null,null,null,"pauschaliert",{"$f":"I44","v":"Dobra"},{"$f":"J44","v":"Srednji"},"AUS",{"$f":"ROUND(M44*1,-1)","v":30},null,{"$f":"IF($H$47<3,\" \",DGET(DB!$A$1:$H$397,DB!F$1,$H57:$L58))","v":1.59},{"$f":"IF($H$47<3,\" \",DGET(DB!$A$1:$H$397,DB!G$1,$H57:$L58))","v":2.81},{"$f":"IF($H$47<3,\" \",DGET(DB!$A$1:$H$397,DB!H$1,$H57:$L58))","v":1.64},{"$f":"IF($H$47<3,\" \",DGET(DB!$A$1:$I$397,DB!I$1,$H57:$L58))","v":3.33}]
[null,27,null,null,null,null,null,"Est","BON","EK","BESTAND","ALT",null,"SG 1+2","SG 3","SG 4"]
[null,28,null,null,null,null,null,{"$f":"H58","v":"pauschaliert"},{"$f":"I58","v":"Dobra"},{"$f":"J58","v":"Srednji"},"END",{"$f":"L58","v":30},null,{"$f":"IF($H$47<3,\" \",DGET(DB!$A$1:$H$397,DB!F$1,$H59:$L60))","v":3.29},{"$f":"IF($H$47<3,\" \",DGET(DB!$A$1:$H$397,DB!G$1,$H59:$L60))","v":8.41},{"$f":"IF($H$47<3,\" \",DGET(DB!$A$1:$H$397,DB!H$1,$H59:$L60))","v":6.8},{"$f":"IF($H$47<3,\" \",DGET(DB!$A$1:$I$397,DB!I$1,$H59:$L60))","v":6.05}]
[null,29,null,null,null,null,null,{"$f":"H47","v":3},{"$f":"I47","v":1},{"$f":"J47","v":1},null,{"$f":"L47","v":1}]
[null,30]
[null,31]
[null,32]
[null,33]
[null,34]
[null,35]
[null,36]
[null,37]
[null,38]
[null,39]
[null,40]
[null,41]
[null,42]
[null,43]
[null,44]
[null,45]
[null,46]
[null,47]
[null,48]
[null,49]
[null,50]
[null,51]
[null,52]
[null,53]
[null,54]
[null,55]
[null,56]
[null,57]
[null,58]
[null,59]
[null,60]
[null,61]
[null,62]
[null,63]
[null,64]
[null,65]

{"sheet":"Stran 4","index":3,"n_rows":97,"n_cols":17,"rows_kept":97,"cut":false,"hidden":false,"merged":[[5,0,5,1],[0,0,0,3],[2,0,4,0],[2,1,2,5],[3,1,3,5],[4,1,4,5],[6,0,6,1],[6,2,6,5],[7,0,7,1],[7,2,7,5],[8,0,8,1],[8,2,8,5],[9,2,9,5],[10,2,10,5],[11,1,11,2],[11,4,11,5],[12,0,12,3],[12,4,12,5],[13,3,13,4],[14,0,14,5],[22,0,22,5],[32,1,32,4],[34,0,34,5]]}
["OCENA ŠKODE ZARADI JELENOV"]
["NA POSAMEZNIH DREVESIH V SMREKOVIH SESTOJIH"]
["Lastnik gozda","Ime in priimek:"]
[null,"Naslov:"]
[null,"Poštna številka in naziv pošte:"]
["Der Betrieb ist steuerlich"]
["Katastrska občina:"]
["Parcelna številka:"]
["Nastanek škode:",null,"yxc"]
[null,"Od:"]
[null,"Do:"]
["Starost sestoja:",null,null,"Boniteta:"]
["Stoški sečnje in spravila:"]
["Sklep sestoja:","Normalen:",1,"Tesen:   ",null,"ne"]
["OCENA ŠKODE NA NOSILCIH SESTOJA"]
["Stopnja poškodbe","Število dreves",null,"EUR/Drevo",null,"Skupaj EUR"]
[1,null,"x",{"$f":"IF(B17=0,\" \",IF($H$47<3,\" \",J49))","v":" "},"=",{"$f":"IF(B17=0,\" \",B17*D17)","v":" "}]
[2,null,"x",{"$f":"IF(B18=0,\" \",IF($H$47<3,\" \",J55))","v":" "},"=",{"$f":"IF(B18=0,\" \",B18*D18)","v":" "}]
[3,null,"x",{"$f":"IF(B19=0,\" \",IF($H$47<3,\" \",J50))","v":" "},"=",{"$f":"IF(B19=0,\" \",B19*D19)","v":" "}]
[4,null,"x",{"$f":"IF(B20=0,\" \",IF($H$47<3,\" \",J51))","v":" "},"=",{"$f":"IF(B20=0,\" \",B20*D20)","v":" "}]
["Skupaj:",{"$f":"IF(SUM(B17:B20)=0,\" 0\",SUM(B17:B20))","v":" 0"},null,null,null,{"$f":"IF(B21=\" \",\" \",SUM(F17:F20))","v":0}]
["Skupaj škoda na nosilcih sestoja:",null,null,null,null,{"$f":"IF(B21=\" \",\"0\",SUM(F17:F20))","v":0}]
["OCENA ŠKODE NA DREVESIH, KI BODO IZPADLA V VMESNIH REDČENJIH"]
["Stopnja poškodbe","Število dreves",null,"EUR/Drevo",null,"Skupaj EUR"]
[1,null,null,{"$f":"IF(B25=0,\" \",IF($H$47<3,\" \",J52))","v":" "},"=",{"$f":"IF(B25=0,\" \",B25*D25)","v":" "}]
[2,null,"x",{"$f":"IF(B26=0,\" \",IF($H$47<3,\" \",J56))","v":" "},"=",{"$f":"IF(B26=0,\" \",B26*D26)","v":" "}]
[3,null,"x",{"$f":"IF(B27=0,\" \",IF($H$47<3,\" \",J53))","v":" "},"=",{"$f":"IF(B27=0,\" \",B27*D27)","v":" "}]
[4,null,"x",{"$f":"IF(B28=0,\" \",IF($H$47<3,\" \",J54))","v":" "},"=",{"$f":"IF(B28=0,\" \",B28*D28)","v":" "}]
["Skupaj:",{"$f":"IF(SUM(B25:B28)=0,\"0\",SUM(B25:B28))","v":"0"},null,null,null,{"$f":"IF(SUM(B26:B28)=0,\"0\",SUM(F26:F28))","v":"0"}]
["Odbitek zaradi tesnega sklepa: 40% od vsote števila dreves od 1 do 4",null,null,null,null,{"$f":"IF(B29=\" \",\" \",(IF(C14=1,0,F29*0.4*(-1))))","v":0}]
["Skupaj škoda na drevesih, ki bodo izpadla v vmesnih redčenjih:",null,null,null,null,{"$f":"IF(SUM(B25:B28)=0,\"0\",F29+F30)","v":"0"}]
["Odškodnina v EUR",null,null,null,null,{"$f":"IF(SUM(B18:B20,B26:B28)=0,\"0\",SUM(F31,F22))","v":"0"}]
[null,"Povprečna škoda v EUR na drevo",null,null,null,{"$f":"IF(SUM(B18:B20,B26:B28)=0,\" \",F32/SUM(B18:B20,B26:B28))","v":" "}]
[]
["Skupaj vse tabele"]
[null,"Odškodnina EUR",null,null,null,{"$f":"D39","v":0}]
[null,"Nosilci sestoja",null,{"$f":"'Stran 1'!F22+'Stran 2'!F22+'Stran 3'!F22+'Stran 4'!F22+'Stran 5'!F22","v":0},null,{"$f":"'Stran 1'!B21+'Stran 2'!B21+'Stran 3'!B21+'Stran 4'!B21+'Stran 5'!B21","v":0}]
[null,"Redčenja",null,{"$f":"'Stran 1'!F31+'Stran 2'!F31+'Stran 3'!F31+'Stran 4'!F31+'Stran 5'!F31","v":0},null,{"$f":"'Stran 1'!B29+'Stran 2'!B29+'Stran 3'!B29+'Stran 4'!B29+'Stran 5'!B29","v":0}]
[null,"Skupaj",null,{"$f":"SUM(D37:D38)","v":0},null,{"$f":"F38+F37","v":0}]
[null,"Povprečna škoda v EUR na drevo",null,{"$f":"D39/F39","v":{"$error":"#DIV/0!"}}]
[]
[]
["Sklep Normalen","Da",null,null,null,null,null,"Est","BON","EK","BESTAND","ALT",null,"SG 1+2","SG 3","SG 4","SG 2"]
[null,"Ne","Ne",null,null,null,null,"pauschaliert","Srednja","Srednji","AUS",{"$f":"IF(M44=\"-\",\"-\",IF(M44*1=L58,M44*1,L58-5))","v":25},"25",{"$f":"IF($H$47<3,\" \",DGET(DB!$A$1:$I$397,DB!F$1,$H43:$L44))","v":1.04},{"$f":"IF($H$47<3,\" \",DGET(DB!$A$1:$H$397,DB!G$1,$H43:$L44))","v":1.91},{"$f":"IF($H$47<3,\" \",DGET(DB!$A$1:$H$397,DB!H$1,$H43:$L44))","v":0.96},{"$f":"IF($H$47<3,\" \",DGET(DB!$A$1:$I$397,DB!I$1,$H43:$L44))","v":1.61}]
["Steuerlich","ALT","BON","EK",null,null,null,"Est","BON","EK","BESTAND","ALT",null,"SG 1+2","SG 3","SG 4"]
["pauschaliert","-","-","-",null,null,null,{"$f":"H44","v":"pauschaliert"},{"$f":"I44","v":"Srednja"},{"$f":"J44","v":"Srednji"},"END",{"$f":"L44","v":25},null,{"$f":"IF($H$47<3,\" \",DGET(DB!$A$1:$H$397,DB!F$1,$H45:$L46))","v":3.53},{"$f":"IF($H$47<3,\" \",DGET(DB!$A$1:$H$397,DB!G$1,$H45:$L46))","v":8.8800000000000008},{"$f":"IF($H$47<3,\" \",DGET(DB!$A$1:$H$397,DB!H$1,$H45:$L46))","v":10.94},{"$f":"IF($H$47<3,\" \",DGET(DB!$A$1:$I$397,DB!I$1,$H45:$L46))","v":6.55}]
["buchführend",15,"Dobra","Nizki",null,null,null,{"$f":"SUM(I47:L47)","v":3},{"$f":"IF(I44=\"-\",0,1)","v":1},{"$f":"IF(J44=\"-\",0,1)","v":1},null,{"$f":"IF(L44=\"-\",0,1)","v":1}]
[null,16,"Srednja","Srednji",null,null,null,"Werte für Berechnung",null,null,null,null,null,"Interpolierte Werte"]
[null,17,"Nizka","Visoki",null,null,null,"END","SG 1+2",{"$f":"IF($L$44=$M$44*1,N46,N49)","v":3.53},null,null,null,{"$f":"N46+(N60-N46)/5*($M$44*1-$L$44)","v":3.53},{"$f":"O46+(O60-O46)/5*($M$44*1-$L$44)","v":8.8800000000000008},{"$f":"P46+(P60-P46)/5*($M$44*1-$L$44)","v":10.94},{"$f":"Q46+(Q60-Q46)/5*($M$44*1-$L$44)","v":6.55}]
[null,18,null,null,null,null,null,null,"SG 3",{"$f":"IF($L$44=$M$44*1,O46,O49)","v":8.8800000000000008}]
[null,19,null,null,null,null,null,null,"SG 4",{"$f":"IF($L$44=$M$44*1,P46,P49)","v":10.94}]
[null,20,null,null,null,null,null,"AUS","SG 1+2",{"$f":"IF($L$44=$M$44*1,N44,N52)","v":1.04},null,null,null,{"$f":"N44+(N58-N44)/5*($M$44*1-$L$44)","v":1.04},{"$f":"O44+(O58-O44)/5*($M$44*1-$L$44)","v":1.91},{"$f":"P44+(P58-P44)/5*($M$44*1-$L$44)","v":0.96},{"$f":"Q44+(Q58-Q44)/5*($M$44*1-$L$44)","v":1.61}]
[null,21,null,null,null,null,null,null,"SG 3",{"$f":"IF($L$44=$M$44*1,O44,O52)","v":1.91}]
[null,22,null,null,null,null,null,null,"SG 4",{"$f":"IF($L$44=$M$44*1,P44,P52)","v":0.96}]
[null,23,null,null,null,null,null,"END","SG 2",{"$f":"IF($L$44=$M$44*1,Q46,Q49)","v":6.55}]
[null,24,null,null,null,null,null,"AUS","SG 2",{"$f":"IF($L$44=$M$44*1,Q44,Q52)","v":1.61}]
[null,25,null,null,null,null,null,"Est","BON","EK","BESTAND","ALT",null,"SG 1+2","SG 3","SG 4","SG 2"]
[null,26,null,null,null,null,null,"pauschaliert",{"$f":"I44","v":"Srednja"},{"$f":"J44","v":"Srednji"},"AUS",{"$f":"ROUND(M44*1,-1)","v":30},null,{"$f":"IF($H$47<3,\" \",DGET(DB!$A$1:$H$397,DB!F$1,$H57:$L58))","v":1.1399999999999999},{"$f":"IF($H$47<3,\" \",DGET(DB!$A$1:$H$397,DB!G$1,$H57:$L58))","v":2.16},{"$f":"IF($H$47<3,\" \",DGET(DB!$A$1:$H$397,DB!H$1,$H57:$L58))","v":1.1499999999999999},{"$f":"IF($H$47<3,\" \",DGET(DB!$A$1:$I$397,DB!I$1,$H57:$L58))","v":1.76}]
[null,27,null,null,null,null,null,"Est","BON","EK","BESTAND","ALT",null,"SG 1+2","SG 3","SG 4"]
[null,28,null,null,null,null,null,{"$f":"H58","v":"pauschaliert"},{"$f":"I58","v":"Srednja"},{"$f":"J58","v":"Srednji"},"END",{"$f":"L58","v":30},null,{"$f":"IF($H$47<3,\" \",DGET(DB!$A$1:$H$397,DB!F$1,$H59:$L60))","v":3.76},{"$f":"IF($H$47<3,\" \",DGET(DB!$A$1:$H$397,DB!G$1,$H59:$L60))","v":9.26},{"$f":"IF($H$47<3,\" \",DGET(DB!$A$1:$H$397,DB!H$1,$H59:$L60))","v":11.77},{"$f":"IF($H$47<3,\" \",DGET(DB!$A$1:$I$397,DB!I$1,$H59:$L60))","v":7.03}]
[null,29,null,null,null,null,null,{"$f":"H47","v":3},{"$f":"I47","v":1},{"$f":"J47","v":1},null,{"$f":"L47","v":1}]
[null,30]
[null,31]
[null,32]
[null,33]
[null,34]
[null,35]
[null,36]
[null,37]
[null,38]
[null,39]
[null,40]
[null,41]
[null,42]
[null,43]
[null,44]
[null,45]
[null,46]
[null,47]
[null,48]
[null,49]
[null,50]
[null,51]
[null,52]
[null,53]
[null,54]
[null,55]
[null,56]
[null,57]
[null,58]
[null,59]
[null,60]
[null,61]
[null,62]
[null,63]
[null,64]
[null,65]

{"sheet":"Stran 5","index":4,"n_rows":97,"n_cols":17,"rows_kept":97,"cut":false,"hidden":false,"merged":[[5,0,5,1],[0,0,0,3],[2,0,4,0],[2,1,2,5],[3,1,3,5],[4,1,4,5],[6,0,6,1],[6,2,6,5],[7,0,7,1],[7,2,7,5],[8,0,8,1],[8,2,8,5],[9,2,9,5],[10,2,10,5],[11,1,11,2],[11,4,11,5],[12,0,12,3],[12,4,12,5],[13,3,13,4],[14,0,14,5],[22,0,22,5],[32,1,32,4],[34,0,34,5]]}
["OCENA ŠKODE ZARADI JELENOV"]
["NA POSAMEZNIH DREVESIH V SMREKOVIH SESTOJIH"]
["Lastnik gozda","Miloš kolšek"]
[null,"Pod hribom 14"]
[null,"1000 ljublja"]
["Der Betrieb ist steuerlich"]
["Katastrska občina:",null,"Šiška"]
["Parcelna številka:",null,"15845/7"]
["Nastanek škode:",null,"15.3.2001"]
[null,"Od:"]
[null,"Do:"]
["Starost sestoja:",null,null,"Boniteta:"]
["Stoški sečnje in spravila:"]
["Sklep sestoja:","Normalen:",2,"Tesen:   ",null,"ne"]
["OCENA ŠKODE NA NOSILCIH SESTOJA"]
["Stopnja poškodbe","Število dreves",null,"EUR/Drevo",null,"Skupaj EUR"]
[1,null,"x",{"$f":"IF(B17=0,\" \",IF($H$47<3,\" \",J49))","v":" "},"=",{"$f":"IF(B17=0,\" \",B17*D17)","v":" "}]
[2,null,"x",{"$f":"IF(B18=0,\" \",IF($H$47<3,\" \",J55))","v":" "},"=",{"$f":"IF(B18=0,\" \",B18*D18)","v":" "}]
[3,null,"x",{"$f":"IF(B19=0,\" \",IF($H$47<3,\" \",J50))","v":" "},"=",{"$f":"IF(B19=0,\" \",B19*D19)","v":" "}]
[4,null,"x",{"$f":"IF(B20=0,\" \",IF($H$47<3,\" \",J51))","v":" "},"=",{"$f":"IF(B20=0,\" \",B20*D20)","v":" "}]
["Skupaj:",{"$f":"IF(SUM(B17:B20)=0,\" 0\",SUM(B17:B20))","v":" 0"},null,null,null,{"$f":"IF(B21=\" \",\" \",SUM(F17:F20))","v":0}]
["Skupaj škoda na nosilcih sestoja:",null,null,null,null,{"$f":"IF(B21=\" \",\"0\",SUM(F17:F20))","v":0}]
["OCENA ŠKODE NA DREVESIH, KI BODO IZPADLA V VMESNIH REDČENJIH"]
["Stopnja poškodbe","Število dreves",null,"EUR/Drevo",null,"Skupaj EUR"]
[1,null,null,{"$f":"IF(B25=0,\" \",IF($H$47<3,\" \",J52))","v":" "},"=",{"$f":"IF(B25=0,\" \",B25*D25)","v":" "}]
[2,null,"x",{"$f":"IF(B26=0,\" \",IF($H$47<3,\" \",J56))","v":" "},"=",{"$f":"IF(B26=0,\" \",B26*D26)","v":" "}]
[3,null,"x",{"$f":"IF(B27=0,\" \",IF($H$47<3,\" \",J53))","v":" "},"=",{"$f":"IF(B27=0,\" \",B27*D27)","v":" "}]
[4,null,"x",{"$f":"IF(B28=0,\" \",IF($H$47<3,\" \",J54))","v":" "},"=",{"$f":"IF(B28=0,\" \",B28*D28)","v":" "}]
["Skupaj:",{"$f":"IF(SUM(B25:B28)=0,\"0\",SUM(B25:B28))","v":"0"},null,null,null,{"$f":"IF(SUM(B26:B28)=0,\"0\",SUM(F26:F28))","v":"0"}]
["Odbitek zaradi tesnega sklepa: 40% od vsote števila dreves od 1 do 4",null,null,null,null,{"$f":"IF(B29=\" \",\" \",(IF(C14=1,0,F29*0.4*(-1))))","v":0}]
["Skupaj škoda na drevesih, ki bodo izpadla v vmesnih redčenjih:",null,null,null,null,{"$f":"IF(SUM(B25:B28)=0,\"0\",F29+F30)","v":"0"}]
["Odškodnina v EUR",null,null,null,null,{"$f":"IF(SUM(B18:B20,B26:B28)=0,\"0\",SUM(F31,F22))","v":"0"}]
[null,"Povprečna škoda v EUR na drevo",null,null,null,{"$f":"IF(SUM(B18:B20,B26:B28)=0,\" \",F32/SUM(B18:B20,B26:B28))","v":" "}]
[]
["Skupaj vse tabele"]
[null,"Odškodnina EUR",null,null,null,{"$f":"D39","v":0}]
[null,"Nosilci sestoja",null,{"$f":"'Stran 1'!F22+'Stran 2'!F22+'Stran 3'!F22+'Stran 4'!F22+'Stran 5'!F22","v":0},null,{"$f":"'Stran 1'!B21+'Stran 2'!B21+'Stran 3'!B21+'Stran 4'!B21+'Stran 5'!B21","v":0}]
[null,"Redčenja",null,{"$f":"'Stran 1'!F31+'Stran 2'!F31+'Stran 3'!F31+'Stran 4'!F31+'Stran 5'!F31","v":0},null,{"$f":"'Stran 1'!B29+'Stran 2'!B29+'Stran 3'!B29+'Stran 4'!B29+'Stran 5'!B29","v":0}]
[null,"Skupaj",null,{"$f":"SUM(D37:D38)","v":0},null,{"$f":"F38+F37","v":0}]
[null,"Povprečna škoda v EUR na drevo",null,{"$f":"D39/F39","v":{"$error":"#DIV/0!"}}]
[]
[]
["Sklep Normalen","Da",null,null,null,null,null,"Est","BON","EK","BESTAND","ALT",null,"SG 1+2","SG 3","SG 4","SG 2"]
[null,"Ne","Ne",null,null,null,null,"pauschaliert","Dobra","Srednji","AUS",{"$f":"IF(M44=\"-\",\"-\",IF(M44*1=L58,M44*1,L58-5))","v":25},"26",{"$f":"IF($H$47<3,\" \",DGET(DB!$A$1:$I$397,DB!F$1,$H43:$L44))","v":1.34},{"$f":"IF($H$47<3,\" \",DGET(DB!$A$1:$H$397,DB!G$1,$H43:$L44))","v":2.44},{"$f":"IF($H$47<3,\" \",DGET(DB!$A$1:$H$397,DB!H$1,$H43:$L44))","v":1.31},{"$f":"IF($H$47<3,\" \",DGET(DB!$A$1:$I$397,DB!I$1,$H43:$L44))","v":2.23}]
["Steuerlich","ALT","BON","EK",null,null,null,"Est","BON","EK","BESTAND","ALT",null,"SG 1+2","SG 3","SG 4"]
["pauschaliert","-","-","-",null,null,null,{"$f":"H44","v":"pauschaliert"},{"$f":"I44","v":"Dobra"},{"$f":"J44","v":"Srednji"},"END",{"$f":"L44","v":25},null,{"$f":"IF($H$47<3,\" \",DGET(DB!$A$1:$H$397,DB!F$1,$H45:$L46))","v":3.12},{"$f":"IF($H$47<3,\" \",DGET(DB!$A$1:$H$397,DB!G$1,$H45:$L46))","v":8},{"$f":"IF($H$47<3,\" \",DGET(DB!$A$1:$H$397,DB!H$1,$H45:$L46))","v":6.45},{"$f":"IF($H$47<3,\" \",DGET(DB!$A$1:$I$397,DB!I$1,$H45:$L46))","v":5.75}]
["buchführend",15,"Dobra","Nizki",null,null,null,{"$f":"SUM(I47:L47)","v":3},{"$f":"IF(I44=\"-\",0,1)","v":1},{"$f":"IF(J44=\"-\",0,1)","v":1},null,{"$f":"IF(L44=\"-\",0,1)","v":1}]
[null,16,"Srednja","Srednji",null,null,null,"Werte für Berechnung",null,null,null,null,null,"Interpolierte Werte"]
[null,17,"Nizka","Visoki",null,null,null,"END","SG 1+2",{"$f":"IF($L$44=$M$44*1,N46,N49)","v":3.15},null,null,null,{"$f":"N46+(N60-N46)/5*($M$44*1-$L$44)","v":3.15},{"$f":"O46+(O60-O46)/5*($M$44*1-$L$44)","v":8.08},{"$f":"P46+(P60-P46)/5*($M$44*1-$L$44)","v":6.52},{"$f":"Q46+(Q60-Q46)/5*($M$44*1-$L$44)","v":5.81}]
[null,18,null,null,null,null,null,null,"SG 3",{"$f":"IF($L$44=$M$44*1,O46,O49)","v":8.08}]
[null,19,null,null,null,null,null,null,"SG 4",{"$f":"IF($L$44=$M$44*1,P46,P49)","v":6.52}]
[null,20,null,null,null,null,null,"AUS","SG 1+2",{"$f":"IF($L$44=$M$44*1,N44,N52)","v":1.39},null,null,null,{"$f":"N44+(N58-N44)/5*($M$44*1-$L$44)","v":1.39},{"$f":"O44+(O58-O44)/5*($M$44*1-$L$44)","v":2.5099999999999998},{"$f":"P44+(P58-P44)/5*($M$44*1-$L$44)","v":1.38},{"$f":"Q44+(Q58-Q44)/5*($M$44*1-$L$44)","v":2.4500000000000002}]
[null,21,null,null,null,null,null,null,"SG 3",{"$f":"IF($L$44=$M$44*1,O44,O52)","v":2.5099999999999998}]
[null,22,null,null,null,null,null,null,"SG 4",{"$f":"IF($L$44=$M$44*1,P44,P52)","v":1.38}]
[null,23,null,null,null,null,null,"END","SG 2",{"$f":"IF($L$44=$M$44*1,Q46,Q49)","v":5.81}]
[null,24,null,null,null,null,null,"AUS","SG 2",{"$f":"IF($L$44=$M$44*1,Q44,Q52)","v":2.4500000000000002}]
[null,25,null,null,null,null,null,"Est","BON","EK","BESTAND","ALT",null,"SG 1+2","SG 3","SG 4","SG 2"]
[null,26,null,null,null,null,null,"pauschaliert",{"$f":"I44","v":"Dobra"},{"$f":"J44","v":"Srednji"},"AUS",{"$f":"ROUND(M44*1,-1)","v":30},null,{"$f":"IF($H$47<3,\" \",DGET(DB!$A$1:$H$397,DB!F$1,$H57:$L58))","v":1.59},{"$f":"IF($H$47<3,\" \",DGET(DB!$A$1:$H$397,DB!G$1,$H57:$L58))","v":2.81},{"$f":"IF($H$47<3,\" \",DGET(DB!$A$1:$H$397,DB!H$1,$H57:$L58))","v":1.64},{"$f":"IF($H$47<3,\" \",DGET(DB!$A$1:$I$397,DB!I$1,$H57:$L58))","v":3.33}]
[null,27,null,null,null,null,null,"Est","BON","EK","BESTAND","ALT",null,"SG 1+2","SG 3","SG 4"]
[null,28,null,null,null,null,null,{"$f":"H58","v":"pauschaliert"},{"$f":"I58","v":"Dobra"},{"$f":"J58","v":"Srednji"},"END",{"$f":"L58","v":30},null,{"$f":"IF($H$47<3,\" \",DGET(DB!$A$1:$H$397,DB!F$1,$H59:$L60))","v":3.29},{"$f":"IF($H$47<3,\" \",DGET(DB!$A$1:$H$397,DB!G$1,$H59:$L60))","v":8.41},{"$f":"IF($H$47<3,\" \",DGET(DB!$A$1:$H$397,DB!H$1,$H59:$L60))","v":6.8},{"$f":"IF($H$47<3,\" \",DGET(DB!$A$1:$I$397,DB!I$1,$H59:$L60))","v":6.05}]
[null,29,null,null,null,null,null,{"$f":"H47","v":3},{"$f":"I47","v":1},{"$f":"J47","v":1},null,{"$f":"L47","v":1}]
[null,30]
[null,31]
[null,32]
[null,33]
[null,34]
[null,35]
[null,36]
[null,37]
[null,38]
[null,39]
[null,40]
[null,41]
[null,42]
[null,43]
[null,44]
[null,45]
[null,46]
[null,47]
[null,48]
[null,49]
[null,50]
[null,51]
[null,52]
[null,53]
[null,54]
[null,55]
[null,56]
[null,57]
[null,58]
[null,59]
[null,60]
[null,61]
[null,62]
[null,63]
[null,64]
[null,65]

{"sheet":"DB","index":5,"n_rows":397,"n_cols":9,"rows_kept":397,"cut":false,"hidden":false,"merged":[]}
["Est","BON","EK","BESTAND","ALT","SG 1","SG 3","SG 4","SG 2"]
["buchführend","Dobra","Visoki","AUS",15,0.92800000000000005,1.7310000000000001,0.82799999999999996,1.238]
["buchführend","Dobra","Visoki","AUS",20,1.1060000000000001,2.0550000000000002,1.0665,1.4570000000000001]
["buchführend","Dobra","Visoki","AUS",25,1.343,2.4380000000000002,1.3049999999999999,2.2275]
["buchführend","Dobra","Visoki","AUS",30,1.593,2.81,1.6445000000000001,3.3304999999999998]
["buchführend","Dobra","Visoki","AUS",35,1.95,3.3860000000000001,2.1859999999999999,6.0149999999999997]
["buchführend","Dobra","Visoki","AUS",40,2.355,3.9849999999999999,2.7730000000000001,2.9359999999999999]
["buchführend","Dobra","Visoki","AUS",45,2.7839999999999998,4.7670000000000003,3.4104999999999999,3.2989999999999999]
["buchführend","Dobra","Visoki","AUS",50,3.194,5.4169999999999998,4.25,3.8180000000000001]
["buchführend","Dobra","Visoki","AUS",55,3.536,6.2240000000000002,4.3070000000000004,4.2649999999999997]
["buchführend","Dobra","Visoki","AUS",60,3.9510000000000001,6.7350000000000003,5.4494999999999996,4.8330000000000002]
["buchführend","Dobra","Visoki","AUS",65,4.25,7.3620000000000001,6.4909999999999997,5.4219999999999997]
["buchführend","Srednja","Visoki","AUS",15,0.78800000000000003,1.3720000000000001,0.61599999999999999,1.2450000000000001]
["buchführend","Srednja","Visoki","AUS",20,0.93100000000000005,1.696,0.80149999999999999,1.391]
["buchführend","Srednja","Visoki","AUS",25,1.036,1.9119999999999999,0.96050000000000002,1.61]
["buchführend","Srednja","Visoki","AUS",30,1.141,2.1629999999999998,1.1459999999999999,1.756]
["buchführend","Srednja","Visoki","AUS",35,1.284,2.4140000000000001,1.3580000000000001,2.1105]
["buchführend","Srednja","Visoki","AUS",40,1.5449999999999999,2.786,1.5674999999999999,2.2805]
["buchführend","Srednja","Visoki","AUS",45,1.736,3.2549999999999999,1.8540000000000001,2.2450000000000001]
["buchführend","Srednja","Visoki","AUS",50,1.996,3.5430000000000001,2.2414999999999998,2.7509999999999999]
["buchführend","Srednja","Visoki","AUS",55,2.27,3.9489999999999998,2.677,3.0659999999999998]
["buchführend","Srednja","Visoki","AUS",60,2.5680000000000001,4.4550000000000001,3.3559999999999999,3.2040000000000002]
["buchführend","Srednja","Visoki","AUS",65,2.8660000000000001,4.9850000000000003,3.7765,3.4569999999999999]
["buchführend","Nizka","Visoki","AUS",15,0.432,0.61899999999999999,0.245,0.65700000000000003]
["buchführend","Nizka","Visoki","AUS",20,0.46700000000000003,-0.77300000000000002,-0.58299999999999996,0.73]
["buchführend","Nizka","Visoki","AUS",25,2.6675,0.94599999999999995,-6.7500000000000004E-2,0.32650000000000001]
["buchführend","Nizka","Visoki","AUS",30,2.7374999999999998,1.089,0.43049999999999999,0.98399999999999999]
["buchführend","Nizka","Visoki","AUS",35,3.2639999999999998,1.27,0.51,1.1299999999999999]
["buchführend","Nizka","Visoki","AUS",40,3.7905000000000002,1.486,0.61599999999999999,1.276]
["buchführend","Nizka","Visoki","AUS",45,3.8955000000000002,1.629,0.72199999999999998,1.349]
["buchführend","Nizka","Visoki","AUS",50,1.036,1.845,0.82799999999999996,1.5680000000000001]
["buchführend","Nizka","Visoki","AUS",55,4.0354999999999999,2.0609999999999999,0.96050000000000002,1.714]
["buchführend","Nizka","Visoki","AUS",60,4.5970000000000004,2.2770000000000001,1.0665,1.8220000000000001]
["buchführend","Nizka","Visoki","AUS",65,1.3540000000000001,2.528,1.2255,1.968]
["buchführend","Nizka","Visoki","END",15,3.2360000000000002,7.9829999999999997,11.1805,5.9020000000000001]
["buchführend","Nizka","Visoki","END",20,3.617,8.7390000000000008,12.320499999999999,6.484]
["buchführend","Nizka","Visoki","END",25,4.0570000000000004,9.4710000000000001,13.689,7.125]
["buchführend","Nizka","Visoki","END",30,4.4089999999999998,10.315,14.9565,7.907]
["buchführend","Nizka","Visoki","END",35,4.7519999999999998,11.24,16.9575,8.5809999999999995]
["buchführend","Nizka","Visoki","END",40,5.28,12.176,18.504000000000001,9.3979999999999997]
["buchführend","Nizka","Visoki","END",45,5.843,13.412000000000001,20.430499999999999,10.272]
["buchführend","Nizka","Visoki","END",50,6.3949999999999996,14.784000000000001,22.861999999999998,11.302]
["buchführend","Nizka","Visoki","END",55,7.1340000000000003,16.077999999999999,24.865500000000001,12.189]
["buchführend","Nizka","Visoki","END",60,7.867,17.562000000000001,27.602499999999999,13.026]
["buchführend","Nizka","Visoki","END",65,8.718,18.943999999999999,30.794,14.086]
["buchführend","Srednja","Visoki","END",15,3.0720000000000001,7.9379999999999997,9.49,5.6449999999999996]
["buchführend","Srednja","Visoki","END",20,3.2389999999999999,8.3149999999999995,10.1995,6.0090000000000003]
["buchführend","Srednja","Visoki","END",25,3.532,8.8780000000000001,10.935499999999999,6.5469999999999997]
["buchführend","Srednja","Visoki","END",30,3.758,9.2609999999999992,11.772500000000001,7.032]
["buchführend","Srednja","Visoki","END",35,4.0220000000000002,9.8330000000000002,12.66,7.391]
["buchführend","Srednja","Visoki","END",40,4.3739999999999997,10.521000000000001,15.593999999999999,7.94]
["buchführend","Srednja","Visoki","END",45,4.7169999999999996,11.127000000000001,14.791,8.59]
["buchführend","Srednja","Visoki","END",50,4.9720000000000004,11.704000000000001,16.109000000000002,9.0129999999999999]
["buchführend","Srednja","Visoki","END",55,5.4119999999999999,12.616,17.073499999999999,9.8520000000000003]
["buchführend","Srednja","Visoki","END",60,5.8520000000000003,13.41,18.670500000000001,10.391]
["buchführend","Srednja","Visoki","END",65,6.2679999999999998,14.244,19.762499999999999,11.106]
["buchführend","Dobra","Visoki","END",15,2.8719999999999999,7.5419999999999998,5.8855000000000004,5.2320000000000002]
["buchführend","Dobra","Visoki","END",20,2.9750000000000001,7.78,6.2415000000000003,5.59]
["buchführend","Dobra","Visoki","END",25,3.1219999999999999,8.0030000000000001,6.4459999999999997,5.7460000000000004]
["buchführend","Dobra","Visoki","END",30,3.2890000000000001,8.4049999999999994,6.8019999999999996,6.0510000000000002]
["buchführend","Dobra","Visoki","END",35,3.4359999999999999,8.6920000000000002,7.2590000000000003,6.492]
["buchführend","Dobra","Visoki","END",40,3.6269999999999998,9.0350000000000001,7.4394999999999998,6.6479999999999997]
["buchführend","Dobra","Visoki","END",45,3.7789999999999999,9.375,7.9734999999999996,6.9829999999999997]
["buchführend","Dobra","Visoki","END",50,3.9990000000000001,9.5359999999999996,8.2789999999999999,7.2210000000000001]
["buchführend","Dobra","Visoki","END",55,4.1369999999999996,9.9380000000000006,8.7360000000000007,7.4820000000000002]
["buchführend","Dobra","Visoki","END",60,4.3040000000000003,10.378,9.1449999999999996,7.8940000000000001]
["buchführend","Dobra","Visoki","END",65,4.5540000000000003,10.78,9.7535000000000007,8.3260000000000005]
["pauschaliert","Dobra","Visoki","AUS",15,0.92800000000000005,1.7310000000000001,1.0660000000000001,1.2070000000000001]
["pauschaliert","Dobra","Visoki","AUS",20,1.1060000000000001,2.0550000000000002,1.3674999999999999,1.4570000000000001]
["pauschaliert","Dobra","Visoki","AUS",25,1.343,2.4380000000000002,1.669,2.2905000000000002]
["pauschaliert","Dobra","Visoki","AUS",30,1.593,2.81,2.0855000000000001,3.5194999999999999]
["pauschaliert","Dobra","Visoki","AUS",35,1.95,3.3860000000000001,2.7320000000000002,6.5190000000000001]
["pauschaliert","Dobra","Visoki","AUS",40,2.355,3.9849999999999999,3.4169999999999998,2.9359999999999999]
["pauschaliert","Dobra","Visoki","AUS",45,2.7839999999999998,4.7670000000000003,4.1595000000000004,3.2989999999999999]
["pauschaliert","Dobra","Visoki","AUS",50,3.194,5.4169999999999998,5.1319999999999997,3.8180000000000001]
["pauschaliert","Dobra","Visoki","AUS",55,3.536,6.2240000000000002,5.4690000000000003,4.2649999999999997]
["pauschaliert","Dobra","Visoki","AUS",60,3.9510000000000001,6.7350000000000003,6.7865000000000002,4.8330000000000002]
["pauschaliert","Dobra","Visoki","AUS",65,4.25,7.3620000000000001,7.9889999999999999,5.4219999999999997]
["pauschaliert","Srednja","Visoki","AUS",15,0.78800000000000003,1.3720000000000001,0.79800000000000004,1.119]
["pauschaliert","Srednja","Visoki","AUS",20,0.93100000000000005,1.696,1.0325,1.2649999999999999]
["pauschaliert","Srednja","Visoki","AUS",25,1.036,1.9119999999999999,1.2335,1.484]
["pauschaliert","Srednja","Visoki","AUS",30,1.141,2.1629999999999998,1.468,1.63]
["pauschaliert","Srednja","Visoki","AUS",35,1.284,2.4140000000000001,1.736,1.9215]
["pauschaliert","Srednja","Visoki","AUS",40,1.5449999999999999,2.786,1.9944999999999999,2.0914999999999999]
["pauschaliert","Srednja","Visoki","AUS",45,1.736,3.2549999999999999,2.3439999999999999,2.2450000000000001]
["pauschaliert","Srednja","Visoki","AUS",50,1.996,3.5430000000000001,2.8085,2.625]
["pauschaliert","Srednja","Visoki","AUS",55,2.27,3.9489999999999998,3.3210000000000002,2.94]
["pauschaliert","Srednja","Visoki","AUS",60,2.5680000000000001,4.4550000000000001,2.8079999999999998,3.2040000000000002]
["pauschaliert","Srednja","Visoki","AUS",65,2.8660000000000001,5.0244999999999997,4.6094999999999997,0]
["pauschaliert","Nizka","Visoki","AUS",15,0.432,0.61899999999999999,0.32900000000000001,0.65700000000000003]
["pauschaliert","Nizka","Visoki","AUS",20,4.6025,0.8,-0.48499999999999999,0.73]
["pauschaliert","Nizka","Visoki","AUS",25,2.3525,0.94599999999999995,0.1075,0.40350000000000003]
["pauschaliert","Nizka","Visoki","AUS",30,2.4224999999999999,1.089,0.5635,0.98399999999999999]
["pauschaliert","Nizka","Visoki","AUS",35,2.8860000000000001,1.27,0.66400000000000003,1.1299999999999999]
["pauschaliert","Nizka","Visoki","AUS",40,3.3494999999999999,1.486,0.79800000000000004,1.276]
["pauschaliert","Nizka","Visoki","AUS",45,3.4544999999999999,1.629,0.93200000000000005,1.349]
["pauschaliert","Nizka","Visoki","AUS",50,1.036,1.845,1.0660000000000001,1.5680000000000001]
["pauschaliert","Nizka","Visoki","AUS",55,3.5945,2.0609999999999999,1.2335,1.714]
["pauschaliert","Nizka","Visoki","AUS",60,4.093,2.2770000000000001,1.3674999999999999,1.8220000000000001]
["pauschaliert","Nizka","Visoki","AUS",65,1.3540000000000001,2.528,1.5685,1.968]
["pauschaliert","Nizka","Visoki","END",15,2.8719999999999999,7.5419999999999998,6.8445,5.2320000000000002]
["pauschaliert","Nizka","Visoki","END",20,2.9750000000000001,7.78,7.2565,5.59]
["pauschaliert","Nizka","Visoki","END",25,3.1219999999999999,8.0030000000000001,7.4960000000000004,5.7460000000000004]
["pauschaliert","Nizka","Visoki","END",30,3.2890000000000001,8.4049999999999994,7.9080000000000004,6.0510000000000002]
["pauschaliert","Nizka","Visoki","END",35,3.4359999999999999,8.6920000000000002,8.4350000000000005,6.492]
["pauschaliert","Nizka","Visoki","END",40,3.6269999999999998,9.0350000000000001,8.6504999999999992,6.6479999999999997]
["pauschaliert","Nizka","Visoki","END",45,3.7789999999999999,9.375,9.2684999999999995,6.9829999999999997]
["pauschaliert","Nizka","Visoki","END",50,3.9990000000000001,9.5359999999999996,9.6229999999999993,7.2210000000000001]
["pauschaliert","Nizka","Visoki","END",55,4.1369999999999996,9.9380000000000006,10.15,7.4820000000000002]
["pauschaliert","Nizka","Visoki","END",60,4.3040000000000003,10.378,10.629,7.8940000000000001]
["pauschaliert","Nizka","Visoki","END",65,4.5540000000000003,10.78,11.3285,8.3260000000000005]
["pauschaliert","Srednja","Visoki","END",15,3.0720000000000001,7.9379999999999997,10.932,5.6449999999999996]
["pauschaliert","Srednja","Visoki","END",20,3.2389999999999999,8.3149999999999995,11.746499999999999,6.0090000000000003]
["pauschaliert","Srednja","Visoki","END",25,3.532,8.8780000000000001,12.5945,6.5469999999999997]
["pauschaliert","Srednja","Visoki","END",30,3.758,9.2609999999999992,13.557499999999999,7.032]
["pauschaliert","Srednja","Visoki","END",35,4.0220000000000002,9.8330000000000002,14.577999999999999,7.391]
["pauschaliert","Srednja","Visoki","END",40,4.3739999999999997,10.521000000000001,17.931999999999999,7.9640000000000004]
["pauschaliert","Srednja","Visoki","END",45,4.7169999999999996,11.127000000000001,17.030999999999999,8.59]
["pauschaliert","Srednja","Visoki","END",50,4.9720000000000004,11.704000000000001,18.545000000000002,9.0129999999999999]
["pauschaliert","Srednja","Visoki","END",55,5.4119999999999999,12.616,19.656500000000001,9.8520000000000003]
["pauschaliert","Srednja","Visoki","END",60,5.8520000000000003,13.41,21.491499999999998,10.391]
["pauschaliert","Srednja","Visoki","END",65,6.2679999999999998,14.244,22.7515,11.106]
["pauschaliert","Dobra","Visoki","END",15,3.2360000000000002,7.9829999999999997,12.8535,5.9020000000000001]
["pauschaliert","Dobra","Visoki","END",20,3.617,8.7390000000000008,14.1615,6.484]
["pauschaliert","Dobra","Visoki","END",25,4.0570000000000004,9.3919999999999995,15.733000000000001,7.125]
["pauschaliert","Dobra","Visoki","END",30,4.4089999999999998,10.315,17.189499999999999,7.907]
["pauschaliert","Dobra","Visoki","END",35,4.7519999999999998,11.24,19.484500000000001,8.5809999999999995]
["pauschaliert","Dobra","Visoki","END",40,5.28,12.176,21.262,9.3979999999999997]
["pauschaliert","Dobra","Visoki","END",45,5.843,13.412000000000001,23.4755,10.272]
["pauschaliert","Dobra","Visoki","END",50,6.3949999999999996,14.784000000000001,26.263999999999999,11.302]
["pauschaliert","Dobra","Visoki","END",55,7.1340000000000003,16.077999999999999,28.5685,12.189]
["pauschaliert","Dobra","Visoki","END",60,7.867,17.562000000000001,31.711500000000001,13.026]
["pauschaliert","Dobra","Visoki","END",65,8.718,18.943999999999999,35.372,14.086]
["buchführend","Dobra","Srednji","AUS",15,0.92800000000000005,1.7310000000000001,1.304,1.238]
["buchführend","Dobra","Srednji","AUS",20,1.1060000000000001,2.0550000000000002,1.6685000000000001,1.4570000000000001]
["buchführend","Dobra","Srednji","AUS",25,1.343,2.4380000000000002,2.0329999999999999,2.3534999999999999]
["buchführend","Dobra","Srednji","AUS",30,1.593,2.81,2.5265,3.7084999999999999]
["buchführend","Dobra","Srednji","AUS",35,1.95,3.3860000000000001,3.278,7.0229999999999997]
["buchführend","Dobra","Srednji","AUS",40,2.355,3.9849999999999999,4.0609999999999999,2.9359999999999999]
["buchführend","Dobra","Srednji","AUS",45,2.7839999999999998,4.7670000000000003,4.9085000000000001,3.2989999999999999]
["buchführend","Dobra","Srednji","AUS",50,3.194,5.4169999999999998,6.0140000000000002,3.8180000000000001]
["buchführend","Dobra","Srednji","AUS",55,3.536,6.2240000000000002,6.6310000000000002,4.2649999999999997]
["buchführend","Dobra","Srednji","AUS",60,3.9510000000000001,6.7350000000000003,8.1234999999999999,4.8330000000000002]
["buchführend","Dobra","Srednji","AUS",65,4.25,7.3620000000000001,9.4870000000000001,5.4219999999999997]
["buchführend","Srednja","Srednji","AUS",15,0.78800000000000003,1.3720000000000001,0.98,0.99299999999999999]
["buchführend","Srednja","Srednji","AUS",20,0.93100000000000005,1.696,1.2635000000000001,1.139]
["buchführend","Srednja","Srednji","AUS",25,1.036,1.9119999999999999,1.5065,1.3580000000000001]
["buchführend","Srednja","Srednji","AUS",30,1.141,2.1629999999999998,1.79,1.504]
["buchführend","Srednja","Srednji","AUS",35,1.284,2.4140000000000001,2.1139999999999999,1.7324999999999999]
["buchführend","Srednja","Srednji","AUS",40,1.5449999999999999,2.786,2.4215,1.9025000000000001]
["buchführend","Srednja","Srednji","AUS",45,1.736,3.2549999999999999,2.8340000000000001,2.2450000000000001]
["buchführend","Srednja","Srednji","AUS",50,1.996,3.5430000000000001,3.3755000000000002,2.4990000000000001]
["buchführend","Srednja","Srednji","AUS",55,2.27,3.9489999999999998,3.9649999999999999,2.8140000000000001]
["buchführend","Srednja","Srednji","AUS",60,2.5680000000000001,4.4550000000000001,3.41,3.2040000000000002]
["buchführend","Srednja","Srednji","AUS",65,2.8660000000000001,4.9850000000000003,5.4424999999999999,3.4569999999999999]
["buchführend","Nizka","Srednji","AUS",15,0.432,0.61899999999999999,0.41299999999999998,0.65700000000000003]
["buchführend","Nizka","Srednji","AUS",20,0.46700000000000003,-0.745,-0.38700000000000001,0.73]
["buchführend","Nizka","Srednji","AUS",25,2.0375000000000001,0.94599999999999995,0.28249999999999997,0.48049999999999998]
["buchführend","Nizka","Srednji","AUS",30,2.1074999999999999,1.089,0.69650000000000001,0.98399999999999999]
["buchführend","Nizka","Srednji","AUS",35,2.508,1.27,0.81799999999999995,1.1299999999999999]
["buchführend","Nizka","Srednji","AUS",40,2.9085000000000001,1.486,0.98,1.276]
["buchführend","Nizka","Srednji","AUS",45,3.0135000000000001,1.629,1.1419999999999999,1.349]
["buchführend","Nizka","Srednji","AUS",50,1.036,1.845,1.304,1.5680000000000001]
["buchführend","Nizka","Srednji","AUS",55,3.1535000000000002,2.0609999999999999,1.5065,1.714]
["buchführend","Nizka","Srednji","AUS",60,3.589,2.2770000000000001,1.6685000000000001,1.8220000000000001]
["buchführend","Nizka","Srednji","AUS",65,1.3540000000000001,2.528,1.9115,1.968]
["buchführend","Nizka","Srednji","END",15,2.8719999999999999,7.5419999999999998,7.8034999999999997,5.2320000000000002]
["buchführend","Nizka","Srednji","END",20,2.9750000000000001,7.78,8.2714999999999996,5.59]
["buchführend","Nizka","Srednji","END",25,3.1219999999999999,8.0030000000000001,8.5459999999999994,5.7460000000000004]
["buchführend","Nizka","Srednji","END",30,3.2890000000000001,8.4049999999999994,9.0139999999999993,6.0510000000000002]
["buchführend","Nizka","Srednji","END",35,3.4359999999999999,8.6920000000000002,9.6110000000000007,6.492]
["buchführend","Nizka","Srednji","END",40,3.6269999999999998,9.0350000000000001,9.8614999999999995,6.6479999999999997]
["buchführend","Nizka","Srednji","END",45,3.7789999999999999,9.375,10.563499999999999,6.9829999999999997]
["buchführend","Nizka","Srednji","END",50,3.9990000000000001,9.5359999999999996,10.967000000000001,7.2210000000000001]
["buchführend","Nizka","Srednji","END",55,4.1369999999999996,9.9380000000000006,11.564,7.4820000000000002]
["buchführend","Nizka","Srednji","END",60,4.3040000000000003,10.378,12.113,7.8940000000000001]
["buchführend","Nizka","Srednji","END",65,4.5540000000000003,10.78,12.903499999999999,8.3260000000000005]
["buchführend","Srednja","Srednji","END",15,3.0720000000000001,7.9379999999999997,12.374000000000001,5.6449999999999996]
["buchführend","Srednja","Srednji","END",20,3.2389999999999999,8.3149999999999995,13.2935,6.0090000000000003]
["buchführend","Srednja","Srednji","END",25,3.532,8.8780000000000001,14.253500000000001,6.5469999999999997]
["buchführend","Srednja","Srednji","END",30,3.758,9.2609999999999992,15.342499999999999,7.032]
["buchführend","Srednja","Srednji","END",35,4.0220000000000002,9.8330000000000002,16.495999999999999,7.391]
["buchführend","Srednja","Srednji","END",40,4.3739999999999997,10.521000000000001,20.27,7.8520000000000003]
["buchführend","Srednja","Srednji","END",45,4.7169999999999996,11.127000000000001,19.271000000000001,8.59]
["buchführend","Srednja","Srednji","END",50,4.9720000000000004,11.704000000000001,20.981000000000002,6.5279999999999996]
["buchführend","Srednja","Srednji","END",55,5.4119999999999999,12.616,22.2395,9.8520000000000003]
["buchführend","Srednja","Srednji","END",60,5.8520000000000003,13.41,24.3125,10.391]
["buchführend","Srednja","Srednji","END",65,6.2679999999999998,14.244,25.740500000000001,11.106]
["buchführend","Dobra","Srednji","END",15,3.2360000000000002,7.9829999999999997,14.5265,5.9020000000000001]
["buchführend","Dobra","Srednji","END",20,3.617,8.7390000000000008,16.002500000000001,6.484]
["buchführend","Dobra","Srednji","END",25,4.0570000000000004,9.4060000000000006,17.777000000000001,7.125]
["buchführend","Dobra","Srednji","END",30,4.4089999999999998,10.315,19.422499999999999,7.907]
["buchführend","Dobra","Srednji","END",35,4.7519999999999998,11.24,22.011500000000002,8.5809999999999995]
["buchführend","Dobra","Srednji","END",40,5.28,12.176,24.02,9.3979999999999997]
["buchführend","Dobra","Srednji","END",45,5.843,13.412000000000001,26.520499999999998,10.272]
["buchführend","Dobra","Srednji","END",50,6.3949999999999996,14.784000000000001,29.666,11.302]
["buchführend","Dobra","Srednji","END",55,7.1340000000000003,16.077999999999999,32.271500000000003,12.189]
["buchführend","Dobra","Srednji","END",60,7.867,17.562000000000001,35.820500000000003,13.026]
["buchführend","Dobra","Srednji","END",65,8.718,18.943999999999999,39.950000000000003,14.086]
["pauschaliert","Dobra","Srednji","AUS",15,0.92800000000000005,1.7310000000000001,0.82799999999999996,1.238]
["pauschaliert","Dobra","Srednji","AUS",20,1.1060000000000001,2.0550000000000002,1.0665,1.4570000000000001]
["pauschaliert","Dobra","Srednji","AUS",25,1.343,2.4380000000000002,1.3049999999999999,2.2275]
["pauschaliert","Dobra","Srednji","AUS",30,1.593,2.81,1.6445000000000001,3.3304999999999998]
["pauschaliert","Dobra","Srednji","AUS",35,1.95,3.3860000000000001,2.1859999999999999,6.0149999999999997]
["pauschaliert","Dobra","Srednji","AUS",40,2.355,3.9849999999999999,2.7730000000000001,2.9359999999999999]
["pauschaliert","Dobra","Srednji","AUS",45,2.7839999999999998,4.7670000000000003,3.4104999999999999,3.2989999999999999]
["pauschaliert","Dobra","Srednji","AUS",50,3.194,5.4169999999999998,4.25,3.8180000000000001]
["pauschaliert","Dobra","Srednji","AUS",55,3.536,6.2240000000000002,4.3070000000000004,4.2649999999999997]
["pauschaliert","Dobra","Srednji","AUS",60,3.9510000000000001,6.7350000000000003,5.4494999999999996,4.8330000000000002]
["pauschaliert","Dobra","Srednji","AUS",65,4.25,7.3620000000000001,6.4909999999999997,5.4219999999999997]
["pauschaliert","Srednja","Srednji","AUS",15,0.78800000000000003,1.3720000000000001,0.61599999999999999,1.2450000000000001]
["pauschaliert","Srednja","Srednji","AUS",20,0.93100000000000005,1.696,0.80149999999999999,1.391]
["pauschaliert","Srednja","Srednji","AUS",25,1.036,1.9119999999999999,0.96050000000000002,1.61]
["pauschaliert","Srednja","Srednji","AUS",30,1.141,2.1629999999999998,1.1459999999999999,1.756]
["pauschaliert","Srednja","Srednji","AUS",35,1.284,2.4140000000000001,1.3580000000000001,2.1105]
["pauschaliert","Srednja","Srednji","AUS",40,1.5449999999999999,2.786,1.5674999999999999,2.2805]
["pauschaliert","Srednja","Srednji","AUS",45,1.736,3.2549999999999999,1.8540000000000001,2.2450000000000001]
["pauschaliert","Srednja","Srednji","AUS",50,1.996,3.5430000000000001,2.2414999999999998,2.7509999999999999]
["pauschaliert","Srednja","Srednji","AUS",55,2.27,3.9489999999999998,2.677,3.0659999999999998]
["pauschaliert","Srednja","Srednji","AUS",60,2.5680000000000001,4.4550000000000001,3.3559999999999999,3.2040000000000002]
["pauschaliert","Srednja","Srednji","AUS",65,2.8660000000000001,4.9850000000000003,3.7765,3.4569999999999999]
["pauschaliert","Nizka","Srednji","AUS",15,0.432,0.61899999999999999,0.245,0.65700000000000003]
["pauschaliert","Nizka","Srednji","AUS",20,0.46700000000000003,-0.77300000000000002,-0.58299999999999996,0.73]
["pauschaliert","Nizka","Srednji","AUS",25,2.6675,0.94599999999999995,-6.7500000000000004E-2,0.32650000000000001]
["pauschaliert","Nizka","Srednji","AUS",30,2.7374999999999998,1.089,0.43049999999999999,0.98399999999999999]
["pauschaliert","Nizka","Srednji","AUS",35,3.2639999999999998,1.27,0.51,1.1299999999999999]
["pauschaliert","Nizka","Srednji","AUS",40,3.7905000000000002,1.486,0.61599999999999999,1.276]
["pauschaliert","Nizka","Srednji","AUS",45,3.8955000000000002,1.629,0.72199999999999998,1.349]
["pauschaliert","Nizka","Srednji","AUS",50,1.036,1.845,0.82799999999999996,1.5680000000000001]
["pauschaliert","Nizka","Srednji","AUS",55,4.0354999999999999,2.0609999999999999,0.96050000000000002,1.714]
["pauschaliert","Nizka","Srednji","AUS",60,4.5970000000000004,2.2770000000000001,1.0665,1.8220000000000001]
["pauschaliert","Nizka","Srednji","AUS",65,1.3540000000000001,2.528,1.2255,1.968]
["pauschaliert","Nizka","Srednji","END",15,3.2360000000000002,7.9829999999999997,11.1805,5.9020000000000001]
["pauschaliert","Nizka","Srednji","END",20,3.617,8.7390000000000008,12.320499999999999,6.484]
["pauschaliert","Nizka","Srednji","END",25,4.0570000000000004,9.4710000000000001,13.689,7.125]
["pauschaliert","Nizka","Srednji","END",30,4.4089999999999998,10.315,14.9565,7.907]
["pauschaliert","Nizka","Srednji","END",35,4.7519999999999998,11.24,16.9575,8.5809999999999995]
["pauschaliert","Nizka","Srednji","END",40,5.28,12.176,18.504000000000001,9.3979999999999997]
["pauschaliert","Nizka","Srednji","END",45,5.843,13.412000000000001,20.430499999999999,10.272]
["pauschaliert","Nizka","Srednji","END",50,6.3949999999999996,14.784000000000001,22.861999999999998,11.302]
["pauschaliert","Nizka","Srednji","END",55,7.1340000000000003,16.077999999999999,24.865500000000001,12.189]
["pauschaliert","Nizka","Srednji","END",60,7.867,17.562000000000001,27.602499999999999,13.026]
["pauschaliert","Nizka","Srednji","END",65,8.718,18.943999999999999,30.794,14.086]
["pauschaliert","Srednja","Srednji","END",15,3.0720000000000001,7.9379999999999997,9.49,5.6449999999999996]
["pauschaliert","Srednja","Srednji","END",20,3.2389999999999999,8.3149999999999995,10.1995,6.0090000000000003]
["pauschaliert","Srednja","Srednji","END",25,3.532,8.8780000000000001,10.935499999999999,6.5469999999999997]
["pauschaliert","Srednja","Srednji","END",30,3.758,9.2609999999999992,11.772500000000001,7.032]
["pauschaliert","Srednja","Srednji","END",35,4.0220000000000002,9.8330000000000002,12.66,7.391]
["pauschaliert","Srednja","Srednji","END",40,4.3739999999999997,10.521000000000001,15.593999999999999,7.94]
["pauschaliert","Srednja","Srednji","END",45,4.7169999999999996,11.127000000000001,14.791,8.59]
["pauschaliert","Srednja","Srednji","END",50,4.9720000000000004,11.704000000000001,16.109000000000002,9.0129999999999999]
["pauschaliert","Srednja","Srednji","END",55,5.4119999999999999,12.616,17.073499999999999,9.8520000000000003]
["pauschaliert","Srednja","Srednji","END",60,5.8520000000000003,13.41,18.670500000000001,10.391]
["pauschaliert","Srednja","Srednji","END",65,6.2679999999999998,14.244,19.762499999999999,11.106]
["pauschaliert","Dobra","Srednji","END",15,2.8719999999999999,7.5419999999999998,5.8855000000000004,5.2320000000000002]
["pauschaliert","Dobra","Srednji","END",20,2.9750000000000001,7.78,6.2415000000000003,5.59]
["pauschaliert","Dobra","Srednji","END",25,3.1219999999999999,8.0030000000000001,6.4459999999999997,5.7460000000000004]
["pauschaliert","Dobra","Srednji","END",30,3.2890000000000001,8.4049999999999994,6.8019999999999996,6.0510000000000002]
["pauschaliert","Dobra","Srednji","END",35,3.4359999999999999,8.6920000000000002,7.2590000000000003,6.492]
["pauschaliert","Dobra","Srednji","END",40,3.6269999999999998,9.0350000000000001,7.4394999999999998,6.6479999999999997]
["pauschaliert","Dobra","Srednji","END",45,3.7789999999999999,9.375,7.9734999999999996,6.9829999999999997]
["pauschaliert","Dobra","Srednji","END",50,3.9990000000000001,9.5359999999999996,8.2789999999999999,7.2210000000000001]
["pauschaliert","Dobra","Srednji","END",55,4.1369999999999996,9.9380000000000006,8.7360000000000007,7.4820000000000002]
["pauschaliert","Dobra","Srednji","END",60,4.3040000000000003,10.378,9.1449999999999996,7.8940000000000001]
["pauschaliert","Dobra","Srednji","END",65,4.5540000000000003,10.78,9.7535000000000007,8.3260000000000005]
["buchführend","Dobra","Nizki","AUS",15,0.92800000000000005,1.7310000000000001,1.0660000000000001,1.2070000000000001]
["buchführend","Dobra","Nizki","AUS",20,1.1060000000000001,2.0550000000000002,1.3674999999999999,1.4570000000000001]
["buchführend","Dobra","Nizki","AUS",25,1.343,2.4380000000000002,1.669,2.2905000000000002]
["buchführend","Dobra","Nizki","AUS",30,1.593,2.81,2.0855000000000001,3.5194999999999999]
["buchführend","Dobra","Nizki","AUS",35,1.95,3.3860000000000001,2.7320000000000002,6.5190000000000001]
["buchführend","Dobra","Nizki","AUS",40,2.355,3.9849999999999999,3.4169999999999998,2.9359999999999999]
["buchführend","Dobra","Nizki","AUS",45,2.7839999999999998,4.7670000000000003,4.1595000000000004,3.2989999999999999]
["buchführend","Dobra","Nizki","AUS",50,3.194,5.4169999999999998,5.1319999999999997,3.8180000000000001]
["buchführend","Dobra","Nizki","AUS",55,3.536,6.2240000000000002,5.4690000000000003,4.2649999999999997]
["buchführend","Dobra","Nizki","AUS",60,3.9510000000000001,6.7350000000000003,6.7865000000000002,4.8330000000000002]
["buchführend","Dobra","Nizki","AUS",65,4.25,7.3620000000000001,7.9889999999999999,5.4219999999999997]
["buchführend","Srednja","Nizki","AUS",15,0.78800000000000003,1.3720000000000001,0.79800000000000004,1.119]
["buchführend","Srednja","Nizki","AUS",20,0.93100000000000005,1.696,1.0325,1.2649999999999999]
["buchführend","Srednja","Nizki","AUS",25,1.036,1.9119999999999999,1.2335,1.484]
["buchführend","Srednja","Nizki","AUS",30,1.141,2.1629999999999998,1.468,1.63]
["buchführend","Srednja","Nizki","AUS",35,1.284,2.4140000000000001,1.736,1.9215]
["buchführend","Srednja","Nizki","AUS",40,1.5449999999999999,2.786,1.9944999999999999,2.0914999999999999]
["buchführend","Srednja","Nizki","AUS",45,1.736,3.2549999999999999,2.3439999999999999,2.2450000000000001]
["buchführend","Srednja","Nizki","AUS",50,1.996,3.5430000000000001,2.8085,2.625]
["buchführend","Srednja","Nizki","AUS",55,2.27,3.9489999999999998,3.3210000000000002,2.94]
["buchführend","Srednja","Nizki","AUS",60,2.5680000000000001,4.4550000000000001,2.8079999999999998,3.2040000000000002]
["buchführend","Srednja","Nizki","AUS",65,2.8660000000000001,5.0244999999999997,4.6094999999999997,0]
["buchführend","Nizka","Nizki","AUS",15,0.432,0.61899999999999999,0.32900000000000001,0.65700000000000003]
["buchführend","Nizka","Nizki","AUS",20,4.6025,0.8,-0.48499999999999999,0.73]
["buchführend","Nizka","Nizki","AUS",25,2.3525,0.94599999999999995,0.1075,0.40350000000000003]
["buchführend","Nizka","Nizki","AUS",30,2.4224999999999999,1.089,0.5635,0.98399999999999999]
["buchführend","Nizka","Nizki","AUS",35,2.8860000000000001,1.27,0.66400000000000003,1.1299999999999999]
["buchführend","Nizka","Nizki","AUS",40,3.3494999999999999,1.486,0.79800000000000004,1.276]
["buchführend","Nizka","Nizki","AUS",45,3.4544999999999999,1.629,0.93200000000000005,1.349]
["buchführend","Nizka","Nizki","AUS",50,1.036,1.845,1.0660000000000001,1.5680000000000001]
["buchführend","Nizka","Nizki","AUS",55,3.5945,2.0609999999999999,1.2335,1.714]
["buchführend","Nizka","Nizki","AUS",60,4.093,2.2770000000000001,1.3674999999999999,1.8220000000000001]
["buchführend","Nizka","Nizki","AUS",65,1.3540000000000001,2.528,1.5685,1.968]
["buchführend","Nizka","Nizki","END",15,2.8719999999999999,7.5419999999999998,6.8445,5.2320000000000002]
["buchführend","Nizka","Nizki","END",20,2.9750000000000001,7.78,7.2565,5.59]
["buchführend","Nizka","Nizki","END",25,3.1219999999999999,8.0030000000000001,7.4960000000000004,5.7460000000000004]
["buchführend","Nizka","Nizki","END",30,3.2890000000000001,8.4049999999999994,7.9080000000000004,6.0510000000000002]
["buchführend","Nizka","Nizki","END",35,3.4359999999999999,8.6920000000000002,8.4350000000000005,6.492]
["buchführend","Nizka","Nizki","END",40,3.6269999999999998,9.0350000000000001,8.6504999999999992,6.6479999999999997]
["buchführend","Nizka","Nizki","END",45,3.7789999999999999,9.375,9.2684999999999995,6.9829999999999997]
["buchführend","Nizka","Nizki","END",50,3.9990000000000001,9.5359999999999996,9.6229999999999993,7.2210000000000001]
["buchführend","Nizka","Nizki","END",55,4.1369999999999996,9.9380000000000006,10.15,7.4820000000000002]
["buchführend","Nizka","Nizki","END",60,4.3040000000000003,10.378,10.629,7.8940000000000001]
["buchführend","Nizka","Nizki","END",65,4.5540000000000003,10.78,11.3285,8.3260000000000005]
["buchführend","Srednja","Nizki","END",15,3.0720000000000001,7.9379999999999997,10.932,5.6449999999999996]
["buchführend","Srednja","Nizki","END",20,3.2389999999999999,8.3149999999999995,11.746499999999999,6.0090000000000003]
["buchführend","Srednja","Nizki","END",25,3.532,8.8780000000000001,12.5945,6.5469999999999997]
["buchführend","Srednja","Nizki","END",30,3.758,9.2609999999999992,13.557499999999999,7.032]
["buchführend","Srednja","Nizki","END",35,4.0220000000000002,9.8330000000000002,14.577999999999999,7.391]
["buchführend","Srednja","Nizki","END",40,4.3739999999999997,10.521000000000001,17.931999999999999,7.9640000000000004]
["buchführend","Srednja","Nizki","END",45,4.7169999999999996,11.127000000000001,17.030999999999999,8.59]
["buchführend","Srednja","Nizki","END",50,4.9720000000000004,11.704000000000001,18.545000000000002,9.0129999999999999]
["buchführend","Srednja","Nizki","END",55,5.4119999999999999,12.616,19.656500000000001,9.8520000000000003]
["buchführend","Srednja","Nizki","END",60,5.8520000000000003,13.41,21.491499999999998,10.391]
["buchführend","Srednja","Nizki","END",65,6.2679999999999998,14.244,22.7515,11.106]
["buchführend","Dobra","Nizki","END",15,3.2360000000000002,7.9829999999999997,12.8535,5.9020000000000001]
["buchführend","Dobra","Nizki","END",20,3.617,8.7390000000000008,14.1615,6.484]
["buchführend","Dobra","Nizki","END",25,4.0570000000000004,9.3919999999999995,15.733000000000001,7.125]
["buchführend","Dobra","Nizki","END",30,4.4089999999999998,10.315,17.189499999999999,7.907]
["buchführend","Dobra","Nizki","END",35,4.7519999999999998,11.24,19.484500000000001,8.5809999999999995]
["buchführend","Dobra","Nizki","END",40,5.28,12.176,21.262,9.3979999999999997]
["buchführend","Dobra","Nizki","END",45,5.843,13.412000000000001,23.4755,10.272]
["buchführend","Dobra","Nizki","END",50,6.3949999999999996,14.784000000000001,26.263999999999999,11.302]
["buchführend","Dobra","Nizki","END",55,7.1340000000000003,16.077999999999999,28.5685,12.189]
["buchführend","Dobra","Nizki","END",60,7.867,17.562000000000001,31.711500000000001,13.026]
["buchführend","Dobra","Nizki","END",65,8.718,18.943999999999999,35.372,14.086]
["pauschaliert","Dobra","Nizki","AUS",15,0.92800000000000005,1.7310000000000001,1.304,1.238]
["pauschaliert","Dobra","Nizki","AUS",20,1.1060000000000001,2.0550000000000002,1.6685000000000001,1.4570000000000001]
["pauschaliert","Dobra","Nizki","AUS",25,1.343,2.4380000000000002,2.0329999999999999,2.3534999999999999]
["pauschaliert","Dobra","Nizki","AUS",30,1.593,2.81,2.5265,3.7084999999999999]
["pauschaliert","Dobra","Nizki","AUS",35,1.95,3.3860000000000001,3.278,7.0229999999999997]
["pauschaliert","Dobra","Nizki","AUS",40,2.355,3.9849999999999999,4.0609999999999999,2.9359999999999999]
["pauschaliert","Dobra","Nizki","AUS",45,2.7839999999999998,4.7670000000000003,4.9085000000000001,3.2989999999999999]
["pauschaliert","Dobra","Nizki","AUS",50,3.194,5.4169999999999998,6.0140000000000002,3.8180000000000001]
["pauschaliert","Dobra","Nizki","AUS",55,3.536,6.2240000000000002,6.6310000000000002,4.2649999999999997]
["pauschaliert","Dobra","Nizki","AUS",60,3.9510000000000001,6.7350000000000003,8.1234999999999999,4.8330000000000002]
["pauschaliert","Dobra","Nizki","AUS",65,4.25,7.3620000000000001,9.4870000000000001,5.4219999999999997]
["pauschaliert","Srednja","Nizki","AUS",15,0.78800000000000003,1.3720000000000001,0.98,0.99299999999999999]
["pauschaliert","Srednja","Nizki","AUS",20,0.93100000000000005,1.696,1.2635000000000001,1.139]
["pauschaliert","Srednja","Nizki","AUS",25,1.036,1.9119999999999999,1.5065,1.3580000000000001]
["pauschaliert","Srednja","Nizki","AUS",30,1.141,2.1629999999999998,1.79,1.504]
["pauschaliert","Srednja","Nizki","AUS",35,1.284,2.4140000000000001,2.1139999999999999,1.7324999999999999]
["pauschaliert","Srednja","Nizki","AUS",40,1.5449999999999999,2.786,2.4215,1.9025000000000001]
["pauschaliert","Srednja","Nizki","AUS",45,1.736,3.2549999999999999,2.8340000000000001,2.2450000000000001]
["pauschaliert","Srednja","Nizki","AUS",50,1.996,3.5430000000000001,3.3755000000000002,2.4990000000000001]
["pauschaliert","Srednja","Nizki","AUS",55,2.27,3.9489999999999998,3.9649999999999999,2.8140000000000001]
["pauschaliert","Srednja","Nizki","AUS",60,2.5680000000000001,4.4550000000000001,3.41,3.2040000000000002]
["pauschaliert","Srednja","Nizki","AUS",65,2.8660000000000001,4.9850000000000003,5.4424999999999999,3.4569999999999999]
["pauschaliert","Nizka","Nizki","AUS",15,0.432,0.61899999999999999,0.41299999999999998,0.65700000000000003]
["pauschaliert","Nizka","Nizki","AUS",20,0.46700000000000003,-0.745,-0.38700000000000001,0.73]
["pauschaliert","Nizka","Nizki","AUS",25,2.0375000000000001,0.94599999999999995,0.28249999999999997,0.48049999999999998]
["pauschaliert","Nizka","Nizki","AUS",30,2.1074999999999999,1.089,0.69650000000000001,0.98399999999999999]
["pauschaliert","Nizka","Nizki","AUS",35,2.508,1.27,0.81799999999999995,1.1299999999999999]
["pauschaliert","Nizka","Nizki","AUS",40,2.9085000000000001,1.486,0.98,1.276]
["pauschaliert","Nizka","Nizki","AUS",45,3.0135000000000001,1.629,1.1419999999999999,1.349]
["pauschaliert","Nizka","Nizki","AUS",50,1.036,1.845,1.304,1.5680000000000001]
["pauschaliert","Nizka","Nizki","AUS",55,3.1535000000000002,2.0609999999999999,1.5065,1.714]
["pauschaliert","Nizka","Nizki","AUS",60,3.589,2.2770000000000001,1.6685000000000001,1.8220000000000001]
["pauschaliert","Nizka","Nizki","AUS",65,1.3540000000000001,2.528,1.9115,1.968]
["pauschaliert","Nizka","Nizki","END",15,2.8719999999999999,7.5419999999999998,7.8034999999999997,5.2320000000000002]
["pauschaliert","Nizka","Nizki","END",20,2.9750000000000001,7.78,8.2714999999999996,5.59]
["pauschaliert","Nizka","Nizki","END",25,3.1219999999999999,8.0030000000000001,8.5459999999999994,5.7460000000000004]
["pauschaliert","Nizka","Nizki","END",30,3.2890000000000001,8.4049999999999994,9.0139999999999993,6.0510000000000002]
["pauschaliert","Nizka","Nizki","END",35,3.4359999999999999,8.6920000000000002,9.6110000000000007,6.492]
["pauschaliert","Nizka","Nizki","END",40,3.6269999999999998,9.0350000000000001,9.8614999999999995,6.6479999999999997]
["pauschaliert","Nizka","Nizki","END",45,3.7789999999999999,9.375,10.563499999999999,6.9829999999999997]
["pauschaliert","Nizka","Nizki","END",50,3.9990000000000001,9.5359999999999996,10.967000000000001,7.2210000000000001]
["pauschaliert","Nizka","Nizki","END",55,4.1369999999999996,9.9380000000000006,11.564,7.4820000000000002]
["pauschaliert","Nizka","Nizki","END",60,4.3040000000000003,10.378,12.113,7.8940000000000001]
["pauschaliert","Nizka","Nizki","END",65,4.5540000000000003,10.78,12.903499999999999,8.3260000000000005]
["pauschaliert","Srednja","Nizki","END",15,3.0720000000000001,7.9379999999999997,12.374000000000001,5.6449999999999996]
["pauschaliert","Srednja","Nizki","END",20,3.2389999999999999,8.3149999999999995,13.2935,6.0090000000000003]
["pauschaliert","Srednja","Nizki","END",25,3.532,8.8780000000000001,14.253500000000001,6.5469999999999997]
["pauschaliert","Srednja","Nizki","END",30,3.758,9.2609999999999992,15.342499999999999,7.032]
["pauschaliert","Srednja","Nizki","END",35,4.0220000000000002,9.8330000000000002,16.495999999999999,7.391]
["pauschaliert","Srednja","Nizki","END",40,4.3739999999999997,10.521000000000001,20.27,7.8520000000000003]
["pauschaliert","Srednja","Nizki","END",45,4.7169999999999996,11.127000000000001,19.271000000000001,8.59]
["pauschaliert","Srednja","Nizki","END",50,4.9720000000000004,11.704000000000001,20.981000000000002,6.5279999999999996]
["pauschaliert","Srednja","Nizki","END",55,5.4119999999999999,12.616,22.2395,9.8520000000000003]
["pauschaliert","Srednja","Nizki","END",60,5.8520000000000003,13.41,24.3125,10.391]
["pauschaliert","Srednja","Nizki","END",65,6.2679999999999998,14.244,25.740500000000001,11.106]
["pauschaliert","Dobra","Nizki","END",15,3.2360000000000002,7.9829999999999997,14.5265,5.9020000000000001]
["pauschaliert","Dobra","Nizki","END",20,3.617,8.7390000000000008,16.002500000000001,6.484]
["pauschaliert","Dobra","Nizki","END",25,4.0570000000000004,9.4060000000000006,17.777000000000001,7.125]
["pauschaliert","Dobra","Nizki","END",30,4.4089999999999998,10.315,19.422499999999999,7.907]
["pauschaliert","Dobra","Nizki","END",35,4.7519999999999998,11.24,22.011500000000002,8.5809999999999995]
["pauschaliert","Dobra","Nizki","END",40,5.28,12.176,24.02,9.3979999999999997]
["pauschaliert","Dobra","Nizki","END",45,5.843,13.412000000000001,26.520499999999998,10.272]
["pauschaliert","Dobra","Nizki","END",50,6.3949999999999996,14.784000000000001,29.666,11.302]
["pauschaliert","Dobra","Nizki","END",55,7.1340000000000003,16.077999999999999,32.271500000000003,12.189]
["pauschaliert","Dobra","Nizki","END",60,7.867,17.562000000000001,35.820500000000003,13.026]
["pauschaliert","Dobra","Nizki","END",65,8.718,18.943999999999999,39.950000000000003,14.086]

{"sheet":"DB_slo","index":6,"n_rows":199,"n_cols":8,"rows_kept":199,"cut":false,"hidden":true,"merged":[]}
["Boniteta","Stroški","Sestoj","Starost","Stopnja p.1","Stopnja p. 2","Stopnja p.3","Stopnja p. 4"]
["dobra","visoki","AUS",15,0.92800000000000005,1.238,1.7310000000000001,0.82799999999999996]
["dobra","visoki","AUS",20,1.1060000000000001,1.4570000000000001,2.0550000000000002,1.0665]
["dobra","visoki","AUS",25,1.343,2.2275,2.4380000000000002,1.3049999999999999]
["dobra","visoki","AUS",30,1.593,3.3304999999999998,2.81,1.6445000000000001]
["dobra","visoki","AUS",35,1.95,6.0149999999999997,3.3860000000000001,2.1859999999999999]
["dobra","visoki","AUS",40,2.355,2.9359999999999999,3.9849999999999999,2.7730000000000001]
["dobra","visoki","AUS",45,2.7839999999999998,3.2989999999999999,4.7670000000000003,3.4104999999999999]
["dobra","visoki","AUS",50,3.194,3.8180000000000001,5.4169999999999998,4.25]
["dobra","visoki","AUS",55,3.536,4.2649999999999997,6.2240000000000002,4.3070000000000004]
["dobra","visoki","AUS",60,3.9510000000000001,4.8330000000000002,6.7350000000000003,5.4494999999999996]
["dobra","visoki","AUS",65,4.25,5.4219999999999997,7.3620000000000001,6.4909999999999997]
["srednja","visoki","AUS",15,0.78800000000000003,1.2450000000000001,1.3720000000000001,0.61599999999999999]
["srednja","visoki","AUS",20,0.93100000000000005,1.391,1.696,0.80149999999999999]
["srednja","visoki","AUS",25,1.036,1.61,1.9119999999999999,0.96050000000000002]
["srednja","visoki","AUS",30,1.141,1.756,2.1629999999999998,1.1459999999999999]
["srednja","visoki","AUS",35,1.284,2.1105,2.4140000000000001,1.3580000000000001]
["srednja","visoki","AUS",40,1.5449999999999999,2.2805,2.786,1.5674999999999999]
["srednja","visoki","AUS",45,1.736,2.2450000000000001,3.2549999999999999,1.8540000000000001]
["srednja","visoki","AUS",50,1.996,2.7509999999999999,3.5430000000000001,2.2414999999999998]
["srednja","visoki","AUS",55,2.27,3.0659999999999998,3.9489999999999998,2.677]
["srednja","visoki","AUS",60,2.5680000000000001,3.2040000000000002,4.4550000000000001,3.3559999999999999]
["srednja","visoki","AUS",65,2.8660000000000001,3.4569999999999999,4.9850000000000003,3.7765]
["slaba","visoki","AUS",15,0.432,0.65700000000000003,0.61899999999999999,0.245]
["slaba","visoki","AUS",20,0.46700000000000003,0.73,-0.77300000000000002,-0.58299999999999996]
["slaba","visoki","AUS",25,2.6675,0.32650000000000001,0.94599999999999995,-6.7500000000000004E-2]
["slaba","visoki","AUS",30,2.7374999999999998,0.98399999999999999,1.089,0.43049999999999999]
["slaba","visoki","AUS",35,3.2639999999999998,1.1299999999999999,1.27,0.51]
["slaba","visoki","AUS",40,3.7905000000000002,1.276,1.486,0.61599999999999999]
["slaba","visoki","AUS",45,3.8955000000000002,1.349,1.629,0.72199999999999998]
["slaba","visoki","AUS",50,1.036,1.5680000000000001,1.845,0.82799999999999996]
["slaba","visoki","AUS",55,4.0354999999999999,1.714,2.0609999999999999,0.96050000000000002]
["slaba","visoki","AUS",60,4.5970000000000004,1.8220000000000001,2.2770000000000001,1.0665]
["slaba","visoki","AUS",65,1.3540000000000001,1.968,2.528,1.2255]
["dobra","visoki","END",15,3.2360000000000002,5.9020000000000001,7.9829999999999997,11.1805]
["dobra","visoki","END",20,3.617,6.484,8.7390000000000008,12.320499999999999]
["dobra","visoki","END",25,4.0570000000000004,7.125,9.4710000000000001,13.689]
["dobra","visoki","END",30,4.4089999999999998,7.907,10.315,14.9565]
["dobra","visoki","END",35,4.7519999999999998,8.5809999999999995,11.24,16.9575]
["dobra","visoki","END",40,5.28,9.3979999999999997,12.176,18.504000000000001]
["dobra","visoki","END",45,5.843,10.272,13.412000000000001,20.430499999999999]
["dobra","visoki","END",50,6.3949999999999996,11.302,14.784000000000001,22.861999999999998]
["dobra","visoki","END",55,7.1340000000000003,12.189,16.077999999999999,24.865500000000001]
["dobra","visoki","END",60,7.867,13.026,17.562000000000001,27.602499999999999]
["dobra","visoki","END",65,8.718,14.086,18.943999999999999,30.794]
["srednja","visoki","END",15,3.0720000000000001,5.6449999999999996,7.9379999999999997,9.49]
["srednja","visoki","END",20,3.2389999999999999,6.0090000000000003,8.3149999999999995,10.1995]
["srednja","visoki","END",25,3.532,6.5469999999999997,8.8780000000000001,10.935499999999999]
["srednja","visoki","END",30,3.758,7.032,9.2609999999999992,11.772500000000001]
["srednja","visoki","END",35,4.0220000000000002,7.391,9.8330000000000002,12.66]
["srednja","visoki","END",40,4.3739999999999997,7.94,10.521000000000001,15.593999999999999]
["srednja","visoki","END",45,4.7169999999999996,8.59,11.127000000000001,14.791]
["srednja","visoki","END",50,4.9720000000000004,9.0129999999999999,11.704000000000001,16.109000000000002]
["srednja","visoki","END",55,5.4119999999999999,9.8520000000000003,12.616,17.073499999999999]
["srednja","visoki","END",60,5.8520000000000003,10.391,13.41,18.670500000000001]
["srednja","visoki","END",65,6.2679999999999998,11.106,14.244,19.762499999999999]
["slaba","visoki","END",15,2.8719999999999999,5.2320000000000002,7.5419999999999998,5.8855000000000004]
["slaba","visoki","END",20,2.9750000000000001,5.59,7.78,6.2415000000000003]
["slaba","visoki","END",25,3.1219999999999999,5.7460000000000004,8.0030000000000001,6.4459999999999997]
["slaba","visoki","END",30,3.2890000000000001,6.0510000000000002,8.4049999999999994,6.8019999999999996]
["slaba","visoki","END",35,3.4359999999999999,6.492,8.6920000000000002,7.2590000000000003]
["slaba","visoki","END",40,3.6269999999999998,6.6479999999999997,9.0350000000000001,7.4394999999999998]
["slaba","visoki","END",45,3.7789999999999999,6.9829999999999997,9.375,7.9734999999999996]
["slaba","visoki","END",50,3.9990000000000001,7.2210000000000001,9.5359999999999996,8.2789999999999999]
["slaba","visoki","END",55,4.1369999999999996,7.4820000000000002,9.9380000000000006,8.7360000000000007]
["slaba","visoki","END",60,4.3040000000000003,7.8940000000000001,10.378,9.1449999999999996]
["slaba","visoki","END",65,4.5540000000000003,8.3260000000000005,10.78,9.7535000000000007]
["dobra","srednji","AUS",15,0.92800000000000005,1.2070000000000001,1.7310000000000001,1.0660000000000001]
["dobra","srednji","AUS",20,1.1060000000000001,1.4570000000000001,2.0550000000000002,1.3674999999999999]
["dobra","srednji","AUS",25,1.343,2.2905000000000002,2.4380000000000002,1.669]
["dobra","srednji","AUS",30,1.593,3.5194999999999999,2.81,2.0855000000000001]
["dobra","srednji","AUS",35,1.95,6.5190000000000001,3.3860000000000001,2.7320000000000002]
["dobra","srednji","AUS",40,2.355,2.9359999999999999,3.9849999999999999,3.4169999999999998]
["dobra","srednji","AUS",45,2.7839999999999998,3.2989999999999999,4.7670000000000003,4.1595000000000004]
["dobra","srednji","AUS",50,3.194,3.8180000000000001,5.4169999999999998,5.1319999999999997]
["dobra","srednji","AUS",55,3.536,4.2649999999999997,6.2240000000000002,5.4690000000000003]
["dobra","srednji","AUS",60,3.9510000000000001,4.8330000000000002,6.7350000000000003,6.7865000000000002]
["dobra","srednji","AUS",65,4.25,5.4219999999999997,7.3620000000000001,7.9889999999999999]
["srednja","srednji","AUS",15,0.78800000000000003,1.119,1.3720000000000001,0.79800000000000004]
["srednja","srednji","AUS",20,0.93100000000000005,1.2649999999999999,1.696,1.0325]
["srednja","srednji","AUS",25,1.036,1.484,1.9119999999999999,1.2335]
["srednja","srednji","AUS",30,1.141,1.63,2.1629999999999998,1.468]
["srednja","srednji","AUS",35,1.284,1.9215,2.4140000000000001,1.736]
["srednja","srednji","AUS",40,1.5449999999999999,2.0914999999999999,2.786,1.9944999999999999]
["srednja","srednji","AUS",45,1.736,2.2450000000000001,3.2549999999999999,2.3439999999999999]
["srednja","srednji","AUS",50,1.996,2.625,3.5430000000000001,2.8085]
["srednja","srednji","AUS",55,2.27,2.94,3.9489999999999998,3.3210000000000002]
["srednja","srednji","AUS",60,2.5680000000000001,3.2040000000000002,4.4550000000000001,2.8079999999999998]
["srednja","srednji","AUS",65,2.8660000000000001,0,5.0244999999999997,4.6094999999999997]
["slaba","srednji","AUS",15,0.432,0.65700000000000003,0.61899999999999999,0.32900000000000001]
["slaba","srednji","AUS",20,4.6025,0.73,0.8,-0.48499999999999999]
["slaba","srednji","AUS",25,2.3525,0.40350000000000003,0.94599999999999995,0.1075]
["slaba","srednji","AUS",30,2.4224999999999999,0.98399999999999999,1.089,0.5635]
["slaba","srednji","AUS",35,2.8860000000000001,1.1299999999999999,1.27,0.66400000000000003]
["slaba","srednji","AUS",40,3.3494999999999999,1.276,1.486,0.79800000000000004]
["slaba","srednji","AUS",45,3.4544999999999999,1.349,1.629,0.93200000000000005]
["slaba","srednji","AUS",50,1.036,1.5680000000000001,1.845,1.0660000000000001]
["slaba","srednji","AUS",55,3.5945,1.714,2.0609999999999999,1.2335]
["slaba","srednji","AUS",60,4.093,1.8220000000000001,2.2770000000000001,1.3674999999999999]
["slaba","srednji","AUS",65,1.3540000000000001,1.968,2.528,1.5685]
["slaba","srednji","END",15,2.8719999999999999,5.2320000000000002,7.5419999999999998,6.8445]
["slaba","srednji","END",20,2.9750000000000001,5.59,7.78,7.2565]
["slaba","srednji","END",25,3.1219999999999999,5.7460000000000004,8.0030000000000001,7.4960000000000004]
["slaba","srednji","END",30,3.2890000000000001,6.0510000000000002,8.4049999999999994,7.9080000000000004]
["slaba","srednji","END",35,3.4359999999999999,6.492,8.6920000000000002,8.4350000000000005]
["slaba","srednji","END",40,3.6269999999999998,6.6479999999999997,9.0350000000000001,8.6504999999999992]
["slaba","srednji","END",45,3.7789999999999999,6.9829999999999997,9.375,9.2684999999999995]
["slaba","srednji","END",50,3.9990000000000001,7.2210000000000001,9.5359999999999996,9.6229999999999993]
["slaba","srednji","END",55,4.1369999999999996,7.4820000000000002,9.9380000000000006,10.15]
["slaba","srednji","END",60,4.3040000000000003,7.8940000000000001,10.378,10.629]
["slaba","srednji","END",65,4.5540000000000003,8.3260000000000005,10.78,11.3285]
["srednja","srednji","END",15,3.0720000000000001,5.6449999999999996,7.9379999999999997,10.932]
["srednja","srednji","END",20,3.2389999999999999,6.0090000000000003,8.3149999999999995,11.746499999999999]
["srednja","srednji","END",25,3.532,6.5469999999999997,8.8780000000000001,12.5945]
["srednja","srednji","END",30,3.758,7.032,9.2609999999999992,13.557499999999999]
["srednja","srednji","END",35,4.0220000000000002,7.391,9.8330000000000002,14.577999999999999]
["srednja","srednji","END",40,4.3739999999999997,7.9640000000000004,10.521000000000001,17.931999999999999]
["srednja","srednji","END",45,4.7169999999999996,8.59,11.127000000000001,17.030999999999999]
["srednja","srednji","END",50,4.9720000000000004,9.0129999999999999,11.704000000000001,18.545000000000002]
["srednja","srednji","END",55,5.4119999999999999,9.8520000000000003,12.616,19.656500000000001]
["srednja","srednji","END",60,5.8520000000000003,10.391,13.41,21.491499999999998]
["srednja","srednji","END",65,6.2679999999999998,11.106,14.244,22.7515]
["dobra","srednji","END",15,3.2360000000000002,5.9020000000000001,7.9829999999999997,12.8535]
["dobra","srednji","END",20,3.617,6.484,8.7390000000000008,14.1615]
["dobra","srednji","END",25,4.0570000000000004,7.125,9.3919999999999995,15.733000000000001]
["dobra","srednji","END",30,4.4089999999999998,7.907,10.315,17.189499999999999]
["dobra","srednji","END",35,4.7519999999999998,8.5809999999999995,11.24,19.484500000000001]
["dobra","srednji","END",40,5.28,9.3979999999999997,12.176,21.262]
["dobra","srednji","END",45,5.843,10.272,13.412000000000001,23.4755]
["dobra","srednji","END",50,6.3949999999999996,11.302,14.784000000000001,26.263999999999999]
["dobra","srednji","END",55,7.1340000000000003,12.189,16.077999999999999,28.5685]
["dobra","srednji","END",60,7.867,13.026,17.562000000000001,31.711500000000001]
["dobra","srednji","END",65,8.718,14.086,18.943999999999999,35.372]
["dobra","nizki","AUS",15,0.92800000000000005,1.238,1.7310000000000001,1.304]
["dobra","nizki","AUS",20,1.1060000000000001,1.4570000000000001,2.0550000000000002,1.6685000000000001]
["dobra","nizki","AUS",25,1.343,2.3534999999999999,2.4380000000000002,2.0329999999999999]
["dobra","nizki","AUS",30,1.593,3.7084999999999999,2.81,2.5265]
["dobra","nizki","AUS",35,1.95,7.0229999999999997,3.3860000000000001,3.278]
["dobra","nizki","AUS",40,2.355,2.9359999999999999,3.9849999999999999,4.0609999999999999]
["dobra","nizki","AUS",45,2.7839999999999998,3.2989999999999999,4.7670000000000003,4.9085000000000001]
["dobra","nizki","AUS",50,3.194,3.8180000000000001,5.4169999999999998,6.0140000000000002]
["dobra","nizki","AUS",55,3.536,4.2649999999999997,6.2240000000000002,6.6310000000000002]
["dobra","nizki","AUS",60,3.9510000000000001,4.8330000000000002,6.7350000000000003,8.1234999999999999]
["dobra","nizki","AUS",65,4.25,5.4219999999999997,7.3620000000000001,9.4870000000000001]
["srednja","nizki","AUS",15,0.78800000000000003,0.99299999999999999,1.3720000000000001,0.98]
["srednja","nizki","AUS",20,0.93100000000000005,1.139,1.696,1.2635000000000001]
["srednja","nizki","AUS",25,1.036,1.3580000000000001,1.9119999999999999,1.5065]
["srednja","nizki","AUS",30,1.141,1.504,2.1629999999999998,1.79]
["srednja","nizki","AUS",35,1.284,1.7324999999999999,2.4140000000000001,2.1139999999999999]
["srednja","nizki","AUS",40,1.5449999999999999,1.9025000000000001,2.786,2.4215]
["srednja","nizki","AUS",45,1.736,2.2450000000000001,3.2549999999999999,2.8340000000000001]
["srednja","nizki","AUS",50,1.996,2.4990000000000001,3.5430000000000001,3.3755000000000002]
["srednja","nizki","AUS",55,2.27,2.8140000000000001,3.9489999999999998,3.9649999999999999]
["srednja","nizki","AUS",60,2.5680000000000001,3.2040000000000002,4.4550000000000001,3.41]
["srednja","nizki","AUS",65,2.8660000000000001,3.4569999999999999,4.9850000000000003,5.4424999999999999]
["slaba","nizki","AUS",15,0.432,0.65700000000000003,0.61899999999999999,0.41299999999999998]
["slaba","nizki","AUS",20,0.46700000000000003,0.73,-0.745,-0.38700000000000001]
["slaba","nizki","AUS",25,2.0375000000000001,0.48049999999999998,0.94599999999999995,0.28249999999999997]
["slaba","nizki","AUS",30,2.1074999999999999,0.98399999999999999,1.089,0.69650000000000001]
["slaba","nizki","AUS",35,2.508,1.1299999999999999,1.27,0.81799999999999995]
["slaba","nizki","AUS",40,2.9085000000000001,1.276,1.486,0.98]
["slaba","nizki","AUS",45,3.0135000000000001,1.349,1.629,1.1419999999999999]
["slaba","nizki","AUS",50,1.036,1.5680000000000001,1.845,1.304]
["slaba","nizki","AUS",55,3.1535000000000002,1.714,2.0609999999999999,1.5065]
["slaba","nizki","AUS",60,3.589,1.8220000000000001,2.2770000000000001,1.6685000000000001]
["slaba","nizki","AUS",65,1.3540000000000001,1.968,2.528,1.9115]
["slaba","nizki","END",15,2.8719999999999999,5.2320000000000002,7.5419999999999998,7.8034999999999997]
["slaba","nizki","END",20,2.9750000000000001,5.59,7.78,8.2714999999999996]
["slaba","nizki","END",25,3.1219999999999999,5.7460000000000004,8.0030000000000001,8.5459999999999994]
["slaba","nizki","END",30,3.2890000000000001,6.0510000000000002,8.4049999999999994,9.0139999999999993]
["slaba","nizki","END",35,3.4359999999999999,6.492,8.6920000000000002,9.6110000000000007]
["slaba","nizki","END",40,3.6269999999999998,6.6479999999999997,9.0350000000000001,9.8614999999999995]
["slaba","nizki","END",45,3.7789999999999999,6.9829999999999997,9.375,10.563499999999999]
["slaba","nizki","END",50,3.9990000000000001,7.2210000000000001,9.5359999999999996,10.967000000000001]
["slaba","nizki","END",55,4.1369999999999996,7.4820000000000002,9.9380000000000006,11.564]
["slaba","nizki","END",60,4.3040000000000003,7.8940000000000001,10.378,12.113]
["slaba","nizki","END",65,4.5540000000000003,8.3260000000000005,10.78,12.903499999999999]
["srednja","nizki","END",15,3.0720000000000001,5.6449999999999996,7.9379999999999997,12.374000000000001]
["srednja","nizki","END",20,3.2389999999999999,6.0090000000000003,8.3149999999999995,13.2935]
["srednja","nizki","END",25,3.532,6.5469999999999997,8.8780000000000001,14.253500000000001]
["srednja","nizki","END",30,3.758,7.032,9.2609999999999992,15.342499999999999]
["srednja","nizki","END",35,4.0220000000000002,7.391,9.8330000000000002,16.495999999999999]
["srednja","nizki","END",40,4.3739999999999997,7.8520000000000003,10.521000000000001,20.27]
["srednja","nizki","END",45,4.7169999999999996,8.59,11.127000000000001,19.271000000000001]
["srednja","nizki","END",50,4.9720000000000004,6.5279999999999996,11.704000000000001,20.981000000000002]
["srednja","nizki","END",55,5.4119999999999999,9.8520000000000003,12.616,22.2395]
["srednja","nizki","END",60,5.8520000000000003,10.391,13.41,24.3125]
["srednja","nizki","END",65,6.2679999999999998,11.106,14.244,25.740500000000001]
["dobra","nizki","END",15,3.2360000000000002,5.9020000000000001,7.9829999999999997,14.5265]
["dobra","nizki","END",20,3.617,6.484,8.7390000000000008,16.002500000000001]
["dobra","nizki","END",25,4.0570000000000004,7.125,9.4060000000000006,17.777000000000001]
["dobra","nizki","END",30,4.4089999999999998,7.907,10.315,19.422499999999999]
["dobra","nizki","END",35,4.7519999999999998,8.5809999999999995,11.24,22.011500000000002]
["dobra","nizki","END",40,5.28,9.3979999999999997,12.176,24.02]
["dobra","nizki","END",45,5.843,10.272,13.412000000000001,26.520499999999998]
["dobra","nizki","END",50,6.3949999999999996,11.302,14.784000000000001,29.666]
["dobra","nizki","END",55,7.1340000000000003,12.189,16.077999999999999,32.271500000000003]
["dobra","nizki","END",60,7.867,13.026,17.562000000000001,35.820500000000003]
["dobra","nizki","END",65,8.718,14.086,18.943999999999999,39.950000000000003]

{"sheet":"Db_original","index":7,"n_rows":397,"n_cols":8,"rows_kept":397,"cut":false,"hidden":true,"merged":[]}
["Est","BON","EK","BESTAND","ALT","SG 1+2","SG 3","SG 4"]
["buchführend","Dobra","Visoki","AUS",15,0.17,0.28000000000000003,0.01]
["buchführend","Dobra","Visoki","AUS",20,0.22,0.36,0.05]
["buchführend","Dobra","Visoki","AUS",25,0.33,0.5,0.1]
["buchführend","Dobra","Visoki","AUS",30,0.52,0.73,0.32]
["buchführend","Dobra","Visoki","AUS",35,0.9,1.19,0.78]
["buchführend","Dobra","Visoki","AUS",40,1.4,1.83,1.38]
["buchführend","Dobra","Visoki","AUS",45,1.86,2.65,2.04]
["buchführend","Dobra","Visoki","AUS",50,2.38,3.42,3.03]
["buchführend","Dobra","Visoki","AUS",55,2.78,4.16,4.08]
["buchführend","Dobra","Visoki","AUS",60,3.26,4.71,5.4]
["buchführend","Dobra","Visoki","AUS",65,3.72,5.3,6.71]
["buchführend","Srednja","Visoki","AUS",15,0.14000000000000001,0.22,0.01]
["buchführend","Srednja","Visoki","AUS",20,0.18,0.28999999999999998,0.04]
["buchführend","Srednja","Visoki","AUS",25,0.23,0.37,0.11]
["buchführend","Srednja","Visoki","AUS",30,0.27,0.44,0.15]
["buchführend","Srednja","Visoki","AUS",35,0.35,0.52,0.21]
["buchführend","Srednja","Visoki","AUS",40,0.5,0.75,0.37]
["buchführend","Srednja","Visoki","AUS",45,0.66,1.02,0.56000000000000005]
["buchführend","Srednja","Visoki","AUS",50,0.95,1.26,0.88]
["buchführend","Srednja","Visoki","AUS",55,1.23,1.63,1.32]
["buchführend","Srednja","Visoki","AUS",60,1.52,2.09,1.89]
["buchführend","Srednja","Visoki","AUS",65,1.8,2.58,2.5299999999999998]
["buchführend","Nizka","Visoki","AUS",15,7.0000000000000007E-2,0.08,0]
["buchführend","Nizka","Visoki","AUS",20,0.09,0.11,0]
["buchführend","Nizka","Visoki","AUS",25,0.12,0.14000000000000001,0.02]
["buchführend","Nizka","Visoki","AUS",30,0.15,0.18,0.04]
["buchführend","Nizka","Visoki","AUS",35,0.18,0.23,7.0000000000000007E-2]
["buchführend","Nizka","Visoki","AUS",40,0.21,0.28999999999999998,0.1]
["buchführend","Nizka","Visoki","AUS",45,0.24,0.33,0.13]
["buchführend","Nizka","Visoki","AUS",50,0.28000000000000003,0.4,0.17]
["buchführend","Nizka","Visoki","AUS",55,0.32,0.47,0.22]
["buchführend","Nizka","Visoki","AUS",60,0.37,0.54,0.27]
["buchführend","Nizka","Visoki","AUS",65,0.41,0.63,0.33]
["buchführend","Nizka","Visoki","END",15,3.8,6,6.9]
["buchführend","Nizka","Visoki","END",20,4,6.3,7.3]
["buchführend","Nizka","Visoki","END",25,4.0999999999999996,6.4,7.6]
["buchführend","Nizka","Visoki","END",30,4.3,6.7,8]
["buchführend","Nizka","Visoki","END",35,4.5999999999999996,6.9,8.5]
["buchführend","Nizka","Visoki","END",40,4.8,7.2,8.6999999999999993]
["buchführend","Nizka","Visoki","END",45,4.9000000000000004,7.5,9.3000000000000007]
["buchführend","Nizka","Visoki","END",50,5.0999999999999996,7.6,9.6999999999999993]
["buchführend","Nizka","Visoki","END",55,5.2,7.9,10.3]
["buchführend","Nizka","Visoki","END",60,5.5,8.3000000000000007,10.7]
["buchführend","Nizka","Visoki","END",65,5.8,8.6,11.5]
["buchführend","Srednja","Visoki","END",15,4.2,7.1,11.8]
["buchführend","Srednja","Visoki","END",20,4.4000000000000004,7.4,12.7]
["buchführend","Srednja","Visoki","END",25,4.8,7.8,13.6]
["buchführend","Srednja","Visoki","END",30,5.0999999999999996,8,14.6]
["buchführend","Srednja","Visoki","END",35,5.4,8.4,15.7]
["buchführend","Srednja","Visoki","END",40,5.8,9,17.100000000000001]
["buchführend","Srednja","Visoki","END",45,6.2,9.4,18.3]
["buchführend","Srednja","Visoki","END",50,6.5,9.8000000000000007,20]
["buchführend","Srednja","Visoki","END",55,7.1,10.5,21.1]
["buchführend","Srednja","Visoki","END",60,7.5,11,23.1]
["buchführend","Srednja","Visoki","END",65,8,11.6,24.5]
["buchführend","Dobra","Visoki","END",15,4.5,7.4,14.3]
["buchführend","Dobra","Visoki","END",20,4.9000000000000004,8,15.8]
["buchführend","Dobra","Visoki","END",25,5.4,8.5,17.5]
["buchführend","Dobra","Visoki","END",30,5.9,9.1999999999999993,19.100000000000001]
["buchführend","Dobra","Visoki","END",35,6.4,9.9,21.7]
["buchführend","Dobra","Visoki","END",40,7.1,10.6,23.6]
["buchführend","Dobra","Visoki","END",45,7.7,11.6,26.1]
["buchführend","Dobra","Visoki","END",50,8.4,12.6,29.2]
["buchführend","Dobra","Visoki","END",55,9.1999999999999993,13.6,31.7]
["buchführend","Dobra","Visoki","END",60,10,14.6,35.200000000000003]
["buchführend","Dobra","Visoki","END",65,11,15.5,39.299999999999997]
["pauschaliert","Dobra","Visoki","AUS",15,0.15,0.24,0]
["pauschaliert","Dobra","Visoki","AUS",20,0.19,0.32,0]
["pauschaliert","Dobra","Visoki","AUS",25,0.31,0.47,0]
["pauschaliert","Dobra","Visoki","AUS",30,0.53,0.71,0.19]
["pauschaliert","Dobra","Visoki","AUS",35,0.94,1.22,0.68]
["pauschaliert","Dobra","Visoki","AUS",40,1.5,1.93,1.32]
["pauschaliert","Dobra","Visoki","AUS",45,2.0099999999999998,2.84,2.0299999999999998]
["pauschaliert","Dobra","Visoki","AUS",50,2.59,3.71,3.11]
["pauschaliert","Dobra","Visoki","AUS",55,3.04,4.53,4.25]
["pauschaliert","Dobra","Visoki","AUS",60,3.57,5.15,5.69]
["pauschaliert","Dobra","Visoki","AUS",65,4.08,5.8,7.13]
["pauschaliert","Srednja","Visoki","AUS",15,0.13,0.19,0]
["pauschaliert","Srednja","Visoki","AUS",20,0.16,0.26,0]
["pauschaliert","Srednja","Visoki","AUS",25,0.22,0.34,0.02]
["pauschaliert","Srednja","Visoki","AUS",30,0.26,0.42,0.05]
["pauschaliert","Srednja","Visoki","AUS",35,0.34,0.5,0.1]
["pauschaliert","Srednja","Visoki","AUS",40,0.5,0.74,0.26]
["pauschaliert","Srednja","Visoki","AUS",45,0.67,1.04,0.46]
["pauschaliert","Srednja","Visoki","AUS",50,1,1.3,0.8]
["pauschaliert","Srednja","Visoki","AUS",55,1.31,1.71,1.26]
["pauschaliert","Srednja","Visoki","AUS",60,1.64,2.2200000000000002,1.88]
["pauschaliert","Srednja","Visoki","AUS",65,1.95,2.76,2.57]
["pauschaliert","Nizka","Visoki","AUS",15,0.06,0.06,0]
["pauschaliert","Nizka","Visoki","AUS",20,7.0000000000000007E-2,0.09,0]
["pauschaliert","Nizka","Visoki","AUS",25,0.11,0.13,0]
["pauschaliert","Nizka","Visoki","AUS",30,0.14000000000000001,0.17,0]
["pauschaliert","Nizka","Visoki","AUS",35,0.17,0.21,0.02]
["pauschaliert","Nizka","Visoki","AUS",40,0.2,0.27,0.04]
["pauschaliert","Nizka","Visoki","AUS",45,0.23,0.32,7.0000000000000007E-2]
["pauschaliert","Nizka","Visoki","AUS",50,0.27,0.39,0.11]
["pauschaliert","Nizka","Visoki","AUS",55,0.31,0.46,0.15]
["pauschaliert","Nizka","Visoki","AUS",60,0.36,0.53,0.2]
["pauschaliert","Nizka","Visoki","AUS",65,0.41,0.62,0.26]
["pauschaliert","Nizka","Visoki","END",15,4.2,6.7,7.5]
["pauschaliert","Nizka","Visoki","END",20,4.4000000000000004,7,8]
["pauschaliert","Nizka","Visoki","END",25,4.5999999999999996,7.1,8.1999999999999993]
["pauschaliert","Nizka","Visoki","END",30,4.7,7.5,8.6999999999999993]
["pauschaliert","Nizka","Visoki","END",35,5.0999999999999996,7.7,9.3000000000000007]
["pauschaliert","Nizka","Visoki","END",40,5.3,8,9.5]
["pauschaliert","Nizka","Visoki","END",45,5.5,8.3000000000000007,10.199999999999999]
["pauschaliert","Nizka","Visoki","END",50,5.6,8.4,10.6]
["pauschaliert","Nizka","Visoki","END",55,5.8,8.8000000000000007,11.2]
["pauschaliert","Nizka","Visoki","END",60,6.1,9.1999999999999993,11.7]
["pauschaliert","Nizka","Visoki","END",65,6.4,9.6,12.5]
["pauschaliert","Srednja","Visoki","END",15,4.7,7.9,12.9]
["pauschaliert","Srednja","Visoki","END",20,4.9000000000000004,8.1999999999999993,13.9]
["pauschaliert","Srednja","Visoki","END",25,5.3,8.6999999999999993,14.9]
["pauschaliert","Srednja","Visoki","END",30,5.7,9,16]
["pauschaliert","Srednja","Visoki","END",35,6,9.4,17.2]
["pauschaliert","Srednja","Visoki","END",40,6.4,10,18.7]
["pauschaliert","Srednja","Visoki","END",45,6.9,10.5,20.100000000000001]
["pauschaliert","Srednja","Visoki","END",50,7.2,10.9,21.9]
["pauschaliert","Srednja","Visoki","END",55,7.8,11.7,23.2]
["pauschaliert","Srednja","Visoki","END",60,8.3000000000000007,12.3,25.3]
["pauschaliert","Srednja","Visoki","END",65,8.8000000000000007,12.9,26.8]
["pauschaliert","Dobra","Visoki","END",15,5,8.3000000000000007,15.7]
["pauschaliert","Dobra","Visoki","END",20,5.5,9,17.3]
["pauschaliert","Dobra","Visoki","END",25,6,9.6,19.2]
["pauschaliert","Dobra","Visoki","END",30,6.6,10.3,21]
["pauschaliert","Dobra","Visoki","END",35,7.1,11,23.8]
["pauschaliert","Dobra","Visoki","END",40,7.9,11.9,26]
["pauschaliert","Dobra","Visoki","END",45,8.5,13,28.6]
["pauschaliert","Dobra","Visoki","END",50,9.3000000000000007,14.1,32.1]
["pauschaliert","Dobra","Visoki","END",55,10.199999999999999,15.2,34.9]
["pauschaliert","Dobra","Visoki","END",60,11.1,16.3,38.700000000000003]
["pauschaliert","Dobra","Visoki","END",65,12.2,17.3,43.2]
["buchführend","Dobra","Srednji","AUS",15,0.31,0.5,0.3]
["buchführend","Dobra","Srednji","AUS",20,0.37,0.61,0.42]
["buchführend","Dobra","Srednji","AUS",25,0.51,0.8,0.54]
["buchführend","Dobra","Srednji","AUS",30,0.72,1.05,0.83]
["buchführend","Dobra","Srednji","AUS",35,1.1200000000000001,1.56,1.39]
["buchführend","Dobra","Srednji","AUS",40,1.64,2.2400000000000002,2.09]
["buchführend","Dobra","Srednji","AUS",45,2.13,3.1,2.86]
["buchführend","Dobra","Srednji","AUS",50,2.67,3.9,3.96]
["buchführend","Dobra","Srednji","AUS",55,3.09,4.68,5.15]
["buchführend","Dobra","Srednji","AUS",60,3.59,5.24,6.64]
["buchführend","Dobra","Srednji","AUS",65,4.08,5.83,8.08]
["buchführend","Srednja","Srednji","AUS",15,0.26,0.39,0.23]
["buchführend","Srednja","Srednji","AUS",20,0.31,0.5,0.32]
["buchführend","Srednja","Srednji","AUS",25,0.38,0.59,0.43]
["buchführend","Srednja","Srednji","AUS",30,0.43,0.7,0.52]
["buchführend","Srednja","Srednji","AUS",35,0.53,0.81,0.64]
["buchführend","Srednja","Srednji","AUS",40,0.7,1.06,0.84]
["buchführend","Srednja","Srednji","AUS",45,0.86,1.37,1.1000000000000001]
["buchführend","Srednja","Srednji","AUS",50,1.18,1.63,1.49]
["buchführend","Srednja","Srednji","AUS",55,1.47,2.0299999999999998,2]
["buchführend","Srednja","Srednji","AUS",60,1.78,2.5099999999999998,2.65]
["buchführend","Srednja","Srednji","AUS",65,2.08,3.03,3.37]
["buchführend","Nizka","Srednji","AUS",15,0.13,0.14000000000000001,0.09]
["buchführend","Nizka","Srednji","AUS",20,0.15,0.19,0.12]
["buchführend","Nizka","Srednji","AUS",25,0.2,0.24,0.15]
["buchführend","Nizka","Srednji","AUS",30,0.24,0.3,0.2]
["buchführend","Nizka","Srednji","AUS",35,0.28000000000000003,0.36,0.24]
["buchführend","Nizka","Srednji","AUS",40,0.32,0.44,0.3]
["buchführend","Nizka","Srednji","AUS",45,0.37,0.51,0.36]
["buchführend","Nizka","Srednji","AUS",50,0.42,0.59,0.43]
["buchführend","Nizka","Srednji","AUS",55,0.47,0.68,0.51]
["buchführend","Nizka","Srednji","AUS",60,0.53,0.77,0.59]
["buchführend","Nizka","Srednji","AUS",65,0.59,0.89,0.69]
["buchführend","Nizka","Srednji","END",15,4,6.4,7.7]
["buchführend","Nizka","Srednji","END",20,4.2,6.6,8.1999999999999993]
["buchführend","Nizka","Srednji","END",25,4.4000000000000004,6.8,8.5]
["buchführend","Nizka","Srednji","END",30,4.5999999999999996,7.1,8.9]
["buchführend","Nizka","Srednji","END",35,4.9000000000000004,7.3,9.6]
["buchführend","Nizka","Srednji","END",40,5.0999999999999996,7.6,9.8000000000000007]
["buchführend","Nizka","Srednji","END",45,5.3,7.9,10.5]
["buchführend","Nizka","Srednji","END",50,5.4,8.1,10.9]
["buchführend","Nizka","Srednji","END",55,5.6,8.4,11.5]
["buchführend","Nizka","Srednji","END",60,5.9,8.8000000000000007,12]
["buchführend","Nizka","Srednji","END",65,6.2,9.1,12.8]
["buchführend","Srednja","Srednji","END",15,4.4000000000000004,7.3,13]
["buchführend","Srednja","Srednji","END",20,4.7,7.6,14]
["buchführend","Srednja","Srednji","END",25,5.0999999999999996,8,15]
["buchführend","Srednja","Srednji","END",30,5.4,8.3000000000000007,16.100000000000001]
["buchführend","Srednja","Srednji","END",35,5.7,8.6999999999999993,17.399999999999999]
["buchführend","Srednja","Srednji","END",40,6.1,9.3000000000000007,18.899999999999999]
["buchführend","Srednja","Srednji","END",45,6.6,9.6999999999999993,20.3]
["buchführend","Srednja","Srednji","END",50,6.9,10.199999999999999,22.1]
["buchführend","Srednja","Srednji","END",55,7.5,10.9,23.4]
["buchführend","Srednja","Srednji","END",60,8,11.5,25.6]
["buchführend","Srednja","Srednji","END",65,8.5,12.1,27]
["buchführend","Dobra","Srednji","END",15,4.7,7.5,15.7]
["buchführend","Dobra","Srednji","END",20,5.2,8.1,17.3]
["buchführend","Dobra","Srednji","END",25,5.7,8.6999999999999993,19.2]
["buchführend","Dobra","Srednji","END",30,6.3,9.4,21]
["buchführend","Dobra","Srednji","END",35,6.8,10.1,23.8]
["buchführend","Dobra","Srednji","END",40,7.5,11,25.9]
["buchführend","Dobra","Srednji","END",45,8.1999999999999993,12,28.6]
["buchführend","Dobra","Srednji","END",50,9,13,32]
["buchführend","Dobra","Srednji","END",55,9.8000000000000007,14.1,34.799999999999997]
["buchführend","Dobra","Srednji","END",60,10.7,15.2,38.6]
["buchführend","Dobra","Srednji","END",65,11.7,16.2,43.1]
["pauschaliert","Dobra","Srednji","AUS",15,0.31,0.51,0.27]
["pauschaliert","Dobra","Srednji","AUS",20,0.38,0.63,0.37]
["pauschaliert","Dobra","Srednji","AUS",25,0.53,0.83,0.49]
["pauschaliert","Dobra","Srednji","AUS",30,0.76,1.1000000000000001,0.8]
["pauschaliert","Dobra","Srednji","AUS",35,1.2,1.66,1.41]
["pauschaliert","Dobra","Srednji","AUS",40,1.79,2.42,2.17]
["pauschaliert","Dobra","Srednji","AUS",45,2.33,3.38,3.01]
["pauschaliert","Dobra","Srednji","AUS",50,2.94,4.28,4.2300000000000004]
["pauschaliert","Dobra","Srednji","AUS",55,3.41,5.15,5.54]
["pauschaliert","Dobra","Srednji","AUS",60,3.97,5.78,7.18]
["pauschaliert","Dobra","Srednji","AUS",65,4.5199999999999996,6.45,8.77]
["pauschaliert","Srednja","Srednji","AUS",15,0.26,0.39,0.2]
["pauschaliert","Srednja","Srednji","AUS",20,0.31,0.51,0.28000000000000003]
["pauschaliert","Srednja","Srednji","AUS",25,0.39,0.61,0.4]
["pauschaliert","Srednja","Srednji","AUS",30,0.44,0.72,0.49]
["pauschaliert","Srednja","Srednji","AUS",35,0.55000000000000004,0.84,0.61]
["pauschaliert","Srednja","Srednji","AUS",40,0.74,1.1200000000000001,0.83]
["pauschaliert","Srednja","Srednji","AUS",45,0.92,1.46,1.1000000000000001]
["pauschaliert","Srednja","Srednji","AUS",50,1.27,1.74,1.52]
["pauschaliert","Srednja","Srednji","AUS",55,1.6,2.19,2.08]
["pauschaliert","Srednja","Srednji","AUS",60,1.94,2.73,2.8]
["pauschaliert","Srednja","Srednji","AUS",65,2.27,3.3,3.58]
["pauschaliert","Nizka","Srednji","AUS",15,0.13,0.14000000000000001,0.08]
["pauschaliert","Nizka","Srednji","AUS",20,0.16,0.2,0.1]
["pauschaliert","Nizka","Srednji","AUS",25,0.2,0.24,0.14000000000000001]
["pauschaliert","Nizka","Srednji","AUS",30,0.24,0.31,0.18]
["pauschaliert","Nizka","Srednji","AUS",35,0.28999999999999998,0.37,0.23]
["pauschaliert","Nizka","Srednji","AUS",40,0.33,0.46,0.28999999999999998]
["pauschaliert","Nizka","Srednji","AUS",45,0.38,0.53,0.35]
["pauschaliert","Nizka","Srednji","AUS",50,0.44,0.62,0.42]
["pauschaliert","Nizka","Srednji","AUS",55,0.49,0.71,0.5]
["pauschaliert","Nizka","Srednji","AUS",60,0.55000000000000004,0.81,0.57999999999999996]
["pauschaliert","Nizka","Srednji","AUS",65,0.62,0.93,0.69]
["pauschaliert","Nizka","Srednji","END",15,4.5,7.1,8.5]
["pauschaliert","Nizka","Srednji","END",20,4.7,7.4,9.1]
["pauschaliert","Nizka","Srednji","END",25,4.9000000000000004,7.5,9.3000000000000007]
["pauschaliert","Nizka","Srednji","END",30,5.0999999999999996,7.9,9.9]
["pauschaliert","Nizka","Srednji","END",35,5.5,8.1999999999999993,10.5]
["pauschaliert","Nizka","Srednji","END",40,5.6,8.5,10.7]
["pauschaliert","Nizka","Srednji","END",45,5.9,8.9,11.5]
["pauschaliert","Nizka","Srednji","END",50,6,9,12]
["pauschaliert","Nizka","Srednji","END",55,6.2,9.4,12.6]
["pauschaliert","Nizka","Srednji","END",60,6.6,9.8000000000000007,13.2]
["pauschaliert","Nizka","Srednji","END",65,6.9,10.199999999999999,14.1]
["pauschaliert","Srednja","Srednji","END",15,4.9000000000000004,8.1,14.4]
["pauschaliert","Srednja","Srednji","END",20,5.2,8.5,15.5]
["pauschaliert","Srednja","Srednji","END",25,5.7,9,16.600000000000001]
["pauschaliert","Srednja","Srednji","END",30,6.1,9.3000000000000007,17.8]
["pauschaliert","Srednja","Srednji","END",35,6.4,9.8000000000000007,19.2]
["pauschaliert","Srednja","Srednji","END",40,6.8,10.4,20.9]
["pauschaliert","Srednja","Srednji","END",45,7.3,10.9,22.4]
["pauschaliert","Srednja","Srednji","END",50,7.7,11.4,24.4]
["pauschaliert","Srednja","Srednji","END",55,8.4,12.2,25.8]
["pauschaliert","Srednja","Srednji","END",60,8.9,12.9,28.2]
["pauschaliert","Srednja","Srednji","END",65,9.5,13.5,29.9]
["pauschaliert","Dobra","Srednji","END",15,5.3,8.4,17.399999999999999]
["pauschaliert","Dobra","Srednji","END",20,5.8,9.1999999999999993,19.100000000000001]
["pauschaliert","Dobra","Srednji","END",25,6.4,9.8000000000000007,21.2]
["pauschaliert","Dobra","Srednji","END",30,7,10.6,23.2]
["pauschaliert","Dobra","Srednji","END",35,7.5,11.4,26.3]
["pauschaliert","Dobra","Srednji","END",40,8.4,12.3,28.7]
["pauschaliert","Dobra","Srednji","END",45,9.1,13.4,31.7]
["pauschaliert","Dobra","Srednji","END",50,10,14.6,35.4]
["pauschaliert","Dobra","Srednji","END",55,10.9,15.8,38.5]
["pauschaliert","Dobra","Srednji","END",60,11.9,17,42.8]
["pauschaliert","Dobra","Srednji","END",65,13,18.100000000000001,47.7]
["buchführend","Dobra","Nizki","AUS",15,0.43,0.7,0.57999999999999996]
["buchführend","Dobra","Nizki","AUS",20,0.52,0.85,0.76]
["buchführend","Dobra","Nizki","AUS",25,0.69,1.08,0.95]
["buchführend","Dobra","Nizki","AUS",30,0.91,1.36,1.31]
["buchführend","Dobra","Nizki","AUS",35,1.32,1.9,1.97]
["buchführend","Dobra","Nizki","AUS",40,1.88,2.62,2.76]
["buchführend","Dobra","Nizki","AUS",45,2.38,3.52,3.63]
["buchführend","Dobra","Nizki","AUS",50,2.94,4.34,4.84]
["buchführend","Dobra","Nizki","AUS",55,3.39,5.17,6.17]
["buchführend","Dobra","Nizki","AUS",60,3.91,5.74,7.81]
["buchführend","Dobra","Nizki","AUS",65,4.42,6.34,9.3699999999999992]
["buchführend","Srednja","Nizki","AUS",15,0.36,0.55000000000000004,0.44]
["buchführend","Srednja","Nizki","AUS",20,0.43,0.69,0.57999999999999996]
["buchführend","Srednja","Nizki","AUS",25,0.51,0.81,0.72]
["buchführend","Srednja","Nizki","AUS",30,0.57999999999999996,0.94,0.87]
["buchführend","Srednja","Nizki","AUS",35,0.7,1.07,1.05]
["buchführend","Srednja","Nizki","AUS",40,0.88,1.36,1.28]
["buchführend","Srednja","Nizki","AUS",45,1.06,1.7,1.6]
["buchführend","Srednja","Nizki","AUS",50,1.39,1.98,2.06]
["buchführend","Srednja","Nizki","AUS",55,1.7,2.41,2.64]
["buchführend","Srednja","Nizki","AUS",60,2.02,2.91,3.37]
["buchführend","Srednja","Nizki","AUS",65,2.33,3.45,4.16]
["buchführend","Nizka","Nizki","AUS",15,0.19,0.2,0.18]
["buchführend","Nizka","Nizki","AUS",20,0.22,0.27,0.23]
["buchführend","Nizka","Nizki","AUS",25,0.27,0.33,0.27]
["buchführend","Nizka","Nizki","AUS",30,0.32,0.4,0.34]
["buchführend","Nizka","Nizki","AUS",35,0.37,0.48,0.4]
["buchführend","Nizka","Nizki","AUS",40,0.43,0.59,0.49]
["buchführend","Nizka","Nizki","AUS",45,0.48,0.67,0.57999999999999996]
["buchführend","Nizka","Nizki","AUS",50,0.55000000000000004,0.78,0.68]
["buchführend","Nizka","Nizki","AUS",55,0.61,0.89,0.79]
["buchführend","Nizka","Nizki","AUS",60,0.68,1,0.89]
["buchführend","Nizka","Nizki","AUS",65,0.75,1.1399999999999999,1.03]
["buchführend","Nizka","Nizki","END",15,4.2,6.7,8.5]
["buchführend","Nizka","Nizki","END",20,4.5,7,9]
["buchführend","Nizka","Nizki","END",25,4.5999999999999996,7.1,9.3000000000000007]
["buchführend","Nizka","Nizki","END",30,4.8,7.5,9.8000000000000007]
["buchführend","Nizka","Nizki","END",35,5.2,7.7,10.5]
["buchführend","Nizka","Nizki","END",40,5.4,8,10.7]
["buchführend","Nizka","Nizki","END",45,5.6,8.4,11.5]
["buchführend","Nizka","Nizki","END",50,5.8,8.5,12]
["buchführend","Nizka","Nizki","END",55,5.9,8.9,12.6]
["buchführend","Nizka","Nizki","END",60,6.3,9.1999999999999993,13.2]
["buchführend","Nizka","Nizki","END",65,6.6,9.6,14.1]
["buchführend","Srednja","Nizki","END",15,4.5999999999999996,7.4,14.2]
["buchführend","Srednja","Nizki","END",20,4.9000000000000004,7.8,15.2]
["buchführend","Srednja","Nizki","END",25,5.3,8.1999999999999993,16.3]
["buchführend","Srednja","Nizki","END",30,5.7,8.5,17.600000000000001]
["buchführend","Srednja","Nizki","END",35,6,9,18.899999999999999]
["buchführend","Srednja","Nizki","END",40,6.4,9.6,20.6]
["buchführend","Srednja","Nizki","END",45,7,10.1,22.1]
["buchführend","Srednja","Nizki","END",50,7.3,10.5,24]
["buchführend","Srednja","Nizki","END",55,8,11.4,25.5]
["buchführend","Srednja","Nizki","END",60,8.5,12,27.9]
["buchführend","Srednja","Nizki","END",65,9,12.6,29.5]
["buchführend","Dobra","Nizki","END",15,4.9000000000000004,7.6,17]
["buchführend","Dobra","Nizki","END",20,5.4,8.3000000000000007,18.7]
["buchführend","Dobra","Nizki","END",25,6,8.9,20.8]
["buchführend","Dobra","Nizki","END",30,6.6,9.6999999999999993,22.7]
["buchführend","Dobra","Nizki","END",35,7.1,10.4,25.7]
["buchführend","Dobra","Nizki","END",40,7.9,11.3,28.1]
["buchführend","Dobra","Nizki","END",45,8.6,12.3,31]
["buchführend","Dobra","Nizki","END",50,9.4,13.4,34.700000000000003]
["buchführend","Dobra","Nizki","END",55,10.3,14.6,37.700000000000003]
["buchführend","Dobra","Nizki","END",60,11.3,15.8,41.8]
["buchführend","Dobra","Nizki","END",65,12.4,16.8,46.7]
["pauschaliert","Dobra","Nizki","AUS",15,0.46,0.75,0.6]
["pauschaliert","Dobra","Nizki","AUS",20,0.56000000000000005,0.92,0.79]
["pauschaliert","Dobra","Nizki","AUS",25,0.74,1.17,0.98]
["pauschaliert","Dobra","Nizki","AUS",30,0.99,1.47,1.38]
["pauschaliert","Dobra","Nizki","AUS",35,1.45,2.08,2.11]
["pauschaliert","Dobra","Nizki","AUS",40,2.0699999999999998,2.88,2.98]
["pauschaliert","Dobra","Nizki","AUS",45,2.64,3.89,3.94]
["pauschaliert","Dobra","Nizki","AUS",50,3.26,4.8099999999999996,5.28]
["pauschaliert","Dobra","Nizki","AUS",55,3.77,5.74,6.76]
["pauschaliert","Dobra","Nizki","AUS",60,4.3600000000000003,6.38,8.58]
["pauschaliert","Dobra","Nizki","AUS",65,4.92,7.05,10.32]
["pauschaliert","Srednja","Nizki","AUS",15,0.39,0.57999999999999996,0.45]
["pauschaliert","Srednja","Nizki","AUS",20,0.46,0.74,0.6]
["pauschaliert","Srednja","Nizki","AUS",25,0.55000000000000004,0.87,0.76]
["pauschaliert","Srednja","Nizki","AUS",30,0.62,1.01,0.91]
["pauschaliert","Srednja","Nizki","AUS",35,0.75,1.1599999999999999,1.1000000000000001]
["pauschaliert","Srednja","Nizki","AUS",40,0.96,1.47,1.36]
["pauschaliert","Srednja","Nizki","AUS",45,1.1499999999999999,1.85,1.7]
["pauschaliert","Srednja","Nizki","AUS",50,1.53,2.16,2.21]
["pauschaliert","Srednja","Nizki","AUS",55,1.87,2.64,2.85]
["pauschaliert","Srednja","Nizki","AUS",60,2.23,3.21,3.66]
["pauschaliert","Srednja","Nizki","AUS",65,2.58,3.81,4.54]
["pauschaliert","Nizka","Nizki","AUS",15,0.2,0.21,0.19]
["pauschaliert","Nizka","Nizki","AUS",20,0.23,0.28999999999999998,0.23]
["pauschaliert","Nizka","Nizki","AUS",25,0.28999999999999998,0.35,0.28999999999999998]
["pauschaliert","Nizka","Nizki","AUS",30,0.35,0.43,0.35]
["pauschaliert","Nizka","Nizki","AUS",35,0.4,0.52,0.42]
["pauschaliert","Nizka","Nizki","AUS",40,0.46,0.63,0.52]
["pauschaliert","Nizka","Nizki","AUS",45,0.52,0.72,0.61]
["pauschaliert","Nizka","Nizki","AUS",50,0.59,0.84,0.71]
["pauschaliert","Nizka","Nizki","AUS",55,0.66,0.96,0.84]
["pauschaliert","Nizka","Nizki","AUS",60,0.73,1.08,0.94]
["pauschaliert","Nizka","Nizki","AUS",65,0.81,1.23,1.1000000000000001]
["pauschaliert","Nizka","Nizki","END",15,4.7,7.5,9.5]
["pauschaliert","Nizka","Nizki","END",20,5,7.8,10]
["pauschaliert","Nizka","Nizki","END",25,5.2,8,10.4]
["pauschaliert","Nizka","Nizki","END",30,5.4,8.4,10.9]
["pauschaliert","Nizka","Nizki","END",35,5.8,8.6999999999999993,11.7]
["pauschaliert","Nizka","Nizki","END",40,6,9,11.9]
["pauschaliert","Nizka","Nizki","END",45,6.2,9.4,12.8]
["pauschaliert","Nizka","Nizki","END",50,6.4,9.5,13.3]
["pauschaliert","Nizka","Nizki","END",55,6.6,9.9,14]
["pauschaliert","Nizka","Nizki","END",60,7,10.3,14.7]
["pauschaliert","Nizka","Nizki","END",65,7.4,10.8,15.7]
["pauschaliert","Srednja","Nizki","END",15,5.2,8.4,15.8]
["pauschaliert","Srednja","Nizki","END",20,5.5,8.6999999999999993,17]
["pauschaliert","Srednja","Nizki","END",25,6,9.3000000000000007,18.2]
["pauschaliert","Srednja","Nizki","END",30,6.4,9.6,19.600000000000001]
["pauschaliert","Srednja","Nizki","END",35,6.7,10.1,21]
["pauschaliert","Srednja","Nizki","END",40,7.2,10.8,22.9]
["pauschaliert","Srednja","Nizki","END",45,7.8,11.3,24.6]
["pauschaliert","Srednja","Nizki","END",50,8.1999999999999993,11.8,26.8]
["pauschaliert","Srednja","Nizki","END",55,8.9,12.7,28.3]
["pauschaliert","Srednja","Nizki","END",60,9.5,13.4,31]
["pauschaliert","Srednja","Nizki","END",65,10.1,14.2,32.799999999999997]
["pauschaliert","Dobra","Nizki","END",15,5.5,8.6,18.899999999999999]
["pauschaliert","Dobra","Nizki","END",20,6.1,9.3000000000000007,20.8]
["pauschaliert","Dobra","Nizki","END",25,6.7,10,23.1]
["pauschaliert","Dobra","Nizki","END",30,7.4,10.9,25.3]
["pauschaliert","Dobra","Nizki","END",35,8,11.7,28.7]
["pauschaliert","Dobra","Nizki","END",40,8.8000000000000007,12.7,31.3]
["pauschaliert","Dobra","Nizki","END",45,9.6,13.9,34.5]
["pauschaliert","Dobra","Nizki","END",50,10.6,15.1,38.6]
["pauschaliert","Dobra","Nizki","END",55,11.6,16.399999999999999,42]
["pauschaliert","Dobra","Nizki","END",60,12.6,17.7,46.6]
["pauschaliert","Dobra","Nizki","END",65,13.9,18.899999999999999,52]